BEGIN:VCALENDAR
VERSION:2.0
PRODID:-//Confindustria Ancona - ECPv6.15.12.2//NONSGML v1.0//EN
CALSCALE:GREGORIAN
METHOD:PUBLISH
X-WR-CALNAME:Confindustria Ancona
X-ORIGINAL-URL:https://www.confindustria.an.it
X-WR-CALDESC:Eventi per Confindustria Ancona
REFRESH-INTERVAL;VALUE=DURATION:PT1H
X-Robots-Tag:noindex
X-PUBLISHED-TTL:PT1H
BEGIN:VTIMEZONE
TZID:Europe/Rome
BEGIN:DAYLIGHT
TZOFFSETFROM:+0100
TZOFFSETTO:+0200
TZNAME:CEST
DTSTART:20250330T010000
END:DAYLIGHT
BEGIN:STANDARD
TZOFFSETFROM:+0200
TZOFFSETTO:+0100
TZNAME:CET
DTSTART:20251026T010000
END:STANDARD
BEGIN:DAYLIGHT
TZOFFSETFROM:+0100
TZOFFSETTO:+0200
TZNAME:CEST
DTSTART:20260329T010000
END:DAYLIGHT
BEGIN:STANDARD
TZOFFSETFROM:+0200
TZOFFSETTO:+0100
TZNAME:CET
DTSTART:20261025T010000
END:STANDARD
BEGIN:DAYLIGHT
TZOFFSETFROM:+0100
TZOFFSETTO:+0200
TZNAME:CEST
DTSTART:20270328T010000
END:DAYLIGHT
BEGIN:STANDARD
TZOFFSETFROM:+0200
TZOFFSETTO:+0100
TZNAME:CET
DTSTART:20271031T010000
END:STANDARD
END:VTIMEZONE
BEGIN:VEVENT
DTSTART;TZID=Europe/Rome:20260420T140000
DTEND;TZID=Europe/Rome:20260420T180000
DTSTAMP:20260420T014537
CREATED:20260324T142847Z
LAST-MODIFIED:20260324T142847Z
UID:57340-1776693600-1776708000@www.confindustria.an.it
SUMMARY:Intelligenza artificiale generativa per il business
DESCRIPTION:Per maggiori info e registrazione clicca qui
URL:https://www.confindustria.an.it/evento/intelligenza-artificiale-generativa-per-il-business/
LOCATION:Online
CATEGORIES:Formazione
END:VEVENT
END:VCALENDAR