BEGIN:VCALENDAR
VERSION:2.0
PRODID:-//Confindustria Ancona - ECPv6.15.12.2//NONSGML v1.0//EN
CALSCALE:GREGORIAN
METHOD:PUBLISH
X-WR-CALNAME:Confindustria Ancona
X-ORIGINAL-URL:https://www.confindustria.an.it
X-WR-CALDESC:Eventi per Confindustria Ancona
REFRESH-INTERVAL;VALUE=DURATION:PT1H
X-Robots-Tag:noindex
X-PUBLISHED-TTL:PT1H
BEGIN:VTIMEZONE
TZID:Europe/Rome
BEGIN:DAYLIGHT
TZOFFSETFROM:+0100
TZOFFSETTO:+0200
TZNAME:CEST
DTSTART:20250330T010000
END:DAYLIGHT
BEGIN:STANDARD
TZOFFSETFROM:+0200
TZOFFSETTO:+0100
TZNAME:CET
DTSTART:20251026T010000
END:STANDARD
BEGIN:DAYLIGHT
TZOFFSETFROM:+0100
TZOFFSETTO:+0200
TZNAME:CEST
DTSTART:20260329T010000
END:DAYLIGHT
BEGIN:STANDARD
TZOFFSETFROM:+0200
TZOFFSETTO:+0100
TZNAME:CET
DTSTART:20261025T010000
END:STANDARD
BEGIN:DAYLIGHT
TZOFFSETFROM:+0100
TZOFFSETTO:+0200
TZNAME:CEST
DTSTART:20270328T010000
END:DAYLIGHT
BEGIN:STANDARD
TZOFFSETFROM:+0200
TZOFFSETTO:+0100
TZNAME:CET
DTSTART:20271031T010000
END:STANDARD
END:VTIMEZONE
BEGIN:VEVENT
DTSTART;TZID=Europe/Rome:20260423T090000
DTEND;TZID=Europe/Rome:20260423T120000
DTSTAMP:20260423T114453
CREATED:20250418T094920Z
LAST-MODIFIED:20250418T094920Z
UID:46578-1776934800-1776945600@www.confindustria.an.it
SUMMARY:Responsabile delle questioni doganali ai fini AEO | quarta edizione | Modulo 5
DESCRIPTION:MODULO 5 – (50 ore)\nGESTIONE E ANALISI DEI RISCHI IN MATERIA DOGANALE.\nSISTEMI INFORMATICI DOGANALI \nFORMAZIONE AEO 2025 | Responsabile delle questioni doganali ai fini AEO | Quarta edizione
URL:https://www.confindustria.an.it/evento/responsabile-delle-questioni-doganali-ai-fini-aeo-quarta-edizione-modulo-5-7/
LOCATION:Online
CATEGORIES:Formazione
END:VEVENT
BEGIN:VEVENT
DTSTART;TZID=Europe/Rome:20260423T090000
DTEND;TZID=Europe/Rome:20260423T170000
DTSTAMP:20260423T114453
CREATED:20260319T082626Z
LAST-MODIFIED:20260416T132801Z
UID:57258-1776934800-1776963600@www.confindustria.an.it
SUMMARY:TENDER LAB 2026
DESCRIPTION:Maggiori dettagli 
URL:https://www.confindustria.an.it/evento/tender-lab-2026-2/
LOCATION:Confindustria Ancona\, Via Ing. Roberto Bianchi snc\, Ancona\, 60131\, Italia
CATEGORIES:Incontro
ATTACH;FMTTYPE=image/jpeg:https://www.confindustria.an.it/wp-content/uploads/2026/03/Tenderlab.jpg
END:VEVENT
BEGIN:VEVENT
DTSTART;TZID=Europe/Rome:20260423T120000
DTEND;TZID=Europe/Rome:20260423T130000
DTSTAMP:20260423T114453
CREATED:20260416T084734Z
LAST-MODIFIED:20260416T084914Z
UID:58359-1776945600-1776949200@www.confindustria.an.it
SUMMARY:Secondo incontro | Quell’excel che tiene in piedi l’azienda: le nuove tecnologie abilitanti per evolvere.
DESCRIPTION:Docenza ALTESIA S.R.L. \nPer maggiori informazioni clicca qui
URL:https://www.confindustria.an.it/evento/primo-incontro-quellexcel-che-tiene-in-piedi-lazienda-le-nuove-tecnologie-abilitanti-per-evolvere/
LOCATION:Online
CATEGORIES:Webinar
ATTACH;FMTTYPE=image/jpeg:https://www.confindustria.an.it/wp-content/uploads/2026/04/ProgCicloWebinar_1140.jpg
END:VEVENT
END:VCALENDAR