BEGIN:VCALENDAR
VERSION:2.0
PRODID:-//Confindustria Ancona - ECPv6.15.12.2//NONSGML v1.0//EN
CALSCALE:GREGORIAN
METHOD:PUBLISH
X-WR-CALNAME:Confindustria Ancona
X-ORIGINAL-URL:https://www.confindustria.an.it
X-WR-CALDESC:Eventi per Confindustria Ancona
REFRESH-INTERVAL;VALUE=DURATION:PT1H
X-Robots-Tag:noindex
X-PUBLISHED-TTL:PT1H
BEGIN:VTIMEZONE
TZID:Europe/Rome
BEGIN:DAYLIGHT
TZOFFSETFROM:+0100
TZOFFSETTO:+0200
TZNAME:CEST
DTSTART:20230326T010000
END:DAYLIGHT
BEGIN:STANDARD
TZOFFSETFROM:+0200
TZOFFSETTO:+0100
TZNAME:CET
DTSTART:20231029T010000
END:STANDARD
BEGIN:DAYLIGHT
TZOFFSETFROM:+0100
TZOFFSETTO:+0200
TZNAME:CEST
DTSTART:20240331T010000
END:DAYLIGHT
BEGIN:STANDARD
TZOFFSETFROM:+0200
TZOFFSETTO:+0100
TZNAME:CET
DTSTART:20241027T010000
END:STANDARD
BEGIN:DAYLIGHT
TZOFFSETFROM:+0100
TZOFFSETTO:+0200
TZNAME:CEST
DTSTART:20250330T010000
END:DAYLIGHT
BEGIN:STANDARD
TZOFFSETFROM:+0200
TZOFFSETTO:+0100
TZNAME:CET
DTSTART:20251026T010000
END:STANDARD
END:VTIMEZONE
BEGIN:VEVENT
DTSTART;TZID=Europe/Rome:20241001T093000
DTEND;TZID=Europe/Rome:20241001T123000
DTSTAMP:20260423T084255
CREATED:20240628T061817Z
LAST-MODIFIED:20240628T062035Z
UID:37314-1727775000-1727785800@www.confindustria.an.it
SUMMARY:Pratica doganale negli scambi con l’estero
DESCRIPTION:  \nPratica doganale negli scambi con l’estero \n1° OTTOBRE 2024\, ORE 9.30-12.30IMPARIAMO A CLASSIFICARE. PERCHE’ LA CLASSIFICAZIONE È COSI’ IMPORTANTE?Docenza: Chiara ed Elena RighettiCAD Euro Pool Marche \n			\n									Maggiori informazione
URL:https://www.confindustria.an.it/evento/pratica-doganale-negli-scambi-con-lestero/
LOCATION:Online
CATEGORIES:Formazione,Webinar
END:VEVENT
BEGIN:VEVENT
DTSTART;TZID=Europe/Rome:20241001T090000
DTEND;TZID=Europe/Rome:20241001T140000
DTSTAMP:20260423T084255
CREATED:20230919T155350Z
LAST-MODIFIED:20230919T155358Z
UID:27747-1727773200-1727791200@www.confindustria.an.it
SUMMARY:Responsabile delle questioni doganali ai fini AEO |   III edizione
DESCRIPTION:MODULO 5 – Gestione e analisi dei rischi in materia doganale. Sistemi informatici doganali (50 ore)  \n\nPer tutti i dettagli del corso clicca qui
URL:https://www.confindustria.an.it/evento/responsabile-delle-questioni-doganali-ai-fini-aeo-iii-edizione-42/
LOCATION:Online
CATEGORIES:Formazione
ATTACH;FMTTYPE=image/jpeg:https://www.confindustria.an.it/wp-content/uploads/2023/09/aeo_immagineBase_1140.jpg
END:VEVENT
BEGIN:VEVENT
DTSTART;TZID=Europe/Rome:20240930T160000
DTEND;TZID=Europe/Rome:20240930T170000
DTSTAMP:20260423T084255
CREATED:20240910T163227Z
LAST-MODIFIED:20240910T163513Z
UID:40133-1727712000-1727715600@www.confindustria.an.it
SUMMARY:Banca e impresa. Insieme per una crescita sostenibile
DESCRIPTION:Lunedì prossimo 30 settembre\, a partire dalle ore 16:30\, Confindustria Ancona e Banco BPM organizzano\, in collaborazione con SIMEST\, un incontro sulle recenti novità apportate alla gamma dei finanziamenti agevolati SIMEST con l’introduzione delle misure a sostegno delle imprese e delle filiere italiane con interessi strategici nel continente africano.\n			\n									Maggiori info e registrazione
URL:https://www.confindustria.an.it/evento/banca-e-impresa-insieme-per-una-crescita-sostenibile/
LOCATION:Confindustria Ancona\, Via Ing. Roberto Bianchi snc\, Ancona\, 60131\, Italia
CATEGORIES:Incontro
ATTACH;FMTTYPE=image/jpeg:https://www.confindustria.an.it/wp-content/uploads/2024/09/INVITO_ESG-Factory_1140.jpg
END:VEVENT
BEGIN:VEVENT
DTSTART;TZID=Europe/Rome:20240926T090000
DTEND;TZID=Europe/Rome:20240926T120000
DTSTAMP:20260423T084255
CREATED:20230919T155300Z
LAST-MODIFIED:20230919T155300Z
UID:27745-1727341200-1727352000@www.confindustria.an.it
SUMMARY:Responsabile delle questioni doganali ai fini AEO |   III edizione
DESCRIPTION:MODULO 5 – Gestione e analisi dei rischi in materia doganale. Sistemi informatici doganali (50 ore)  \n\nPer tutti i dettagli del corso clicca qui
URL:https://www.confindustria.an.it/evento/responsabile-delle-questioni-doganali-ai-fini-aeo-iii-edizione-41/
LOCATION:Online
CATEGORIES:Formazione
ATTACH;FMTTYPE=image/jpeg:https://www.confindustria.an.it/wp-content/uploads/2023/09/aeo_immagineBase_1140.jpg
END:VEVENT
BEGIN:VEVENT
DTSTART;TZID=Europe/Rome:20240924T090000
DTEND;TZID=Europe/Rome:20240924T130000
DTSTAMP:20260423T084255
CREATED:20230919T155231Z
LAST-MODIFIED:20230919T155231Z
UID:27743-1727168400-1727182800@www.confindustria.an.it
SUMMARY:Responsabile delle questioni doganali ai fini AEO |   III edizione
DESCRIPTION:MODULO 5 – Gestione e analisi dei rischi in materia doganale. Sistemi informatici doganali (50 ore)  \n\nPer tutti i dettagli del corso clicca qui
URL:https://www.confindustria.an.it/evento/responsabile-delle-questioni-doganali-ai-fini-aeo-iii-edizione-40/
LOCATION:Online
CATEGORIES:Formazione
ATTACH;FMTTYPE=image/jpeg:https://www.confindustria.an.it/wp-content/uploads/2023/09/aeo_immagineBase_1140.jpg
END:VEVENT
BEGIN:VEVENT
DTSTART;TZID=Europe/Rome:20240919T173000
DTEND;TZID=Europe/Rome:20240919T193000
DTSTAMP:20260423T084255
CREATED:20240912T102459Z
LAST-MODIFIED:20240912T102459Z
UID:40146-1726767000-1726774200@www.confindustria.an.it
SUMMARY:Comprensorio delle Valli dell’Aspio e del Musone
DESCRIPTION:Ordine del giorno:\n– Comunicazioni della Presidenza;\n– Organizzazione mostra Loreto – progetto Ottantesimo;\n– Varie ed eventuali.
URL:https://www.confindustria.an.it/evento/comprensorio-delle-valli-dellaspio-e-del-musone-3/
LOCATION:Dorica Express Group Srl\, Via dell'Artigianato\, 6/8\, Camerano\, ANCONA\, 60021\, Italia
CATEGORIES:Incontro riservato
END:VEVENT
BEGIN:VEVENT
DTSTART;TZID=Europe/Rome:20240919T090000
DTEND;TZID=Europe/Rome:20240919T130000
DTSTAMP:20260423T084255
CREATED:20230919T155207Z
LAST-MODIFIED:20230919T155207Z
UID:27741-1726736400-1726750800@www.confindustria.an.it
SUMMARY:Responsabile delle questioni doganali ai fini AEO |   III edizione
DESCRIPTION:MODULO 5 – Gestione e analisi dei rischi in materia doganale. Sistemi informatici doganali (50 ore)  \n\nPer tutti i dettagli del corso clicca qui
URL:https://www.confindustria.an.it/evento/responsabile-delle-questioni-doganali-ai-fini-aeo-iii-edizione-39/
LOCATION:Online
CATEGORIES:Formazione
ATTACH;FMTTYPE=image/jpeg:https://www.confindustria.an.it/wp-content/uploads/2023/09/aeo_immagineBase_1140.jpg
END:VEVENT
BEGIN:VEVENT
DTSTART;TZID=Europe/Rome:20240917T170000
DTEND;TZID=Europe/Rome:20240917T190000
DTSTAMP:20260423T084255
CREATED:20240910T091143Z
LAST-MODIFIED:20240910T091143Z
UID:40097-1726592400-1726599600@www.confindustria.an.it
SUMMARY:Comitato Territoriale Comprensorio Anconetano
DESCRIPTION:Ordine del giorno: \n1.Comunicazioni della Presidenza;\n2.Presentazione progetto Hype80;\n3.Varie ed eventuali.
URL:https://www.confindustria.an.it/evento/comitato-territoriale-comprensorio-anconetano-7/
LOCATION:Confindustria Ancona\, Via Ing. Roberto Bianchi snc\, Ancona\, 60131\, Italia
CATEGORIES:Incontro riservato
END:VEVENT
BEGIN:VEVENT
DTSTART;TZID=Europe/Rome:20240916T190000
DTEND;TZID=Europe/Rome:20240916T200000
DTSTAMP:20260423T084255
CREATED:20240909T063720Z
LAST-MODIFIED:20240912T093340Z
UID:40074-1726513200-1726516800@www.confindustria.an.it
SUMMARY:Comitato Territoriale di Senigallia e delle Valli Misa e Nevola
DESCRIPTION:Ordine del giorno: \n\n1. Elezione del Presidente e del Vicepresidente;\nComunicazioni della nuova Presidenza;\nAttività ed eventi futuri del 2024;\nVarie ed eventuali.
URL:https://www.confindustria.an.it/evento/comitato-territoriale-di-senigallia-e-delle-valli-misa-e-nevola-8/
LOCATION:EVENT’S S.R.L.\, Via Lotto\, 9\, Senigallia
CATEGORIES:Incontro riservato
END:VEVENT
BEGIN:VEVENT
DTSTART;TZID=Europe/Rome:20240912T090000
DTEND;TZID=Europe/Rome:20240912T130000
DTSTAMP:20260423T084255
CREATED:20230919T155130Z
LAST-MODIFIED:20230919T155130Z
UID:27739-1726131600-1726146000@www.confindustria.an.it
SUMMARY:Responsabile delle questioni doganali ai fini AEO |   III edizione
DESCRIPTION:MODULO 5 – Gestione e analisi dei rischi in materia doganale. Sistemi informatici doganali (50 ore)  \n\nPer tutti i dettagli del corso clicca qui
URL:https://www.confindustria.an.it/evento/responsabile-delle-questioni-doganali-ai-fini-aeo-iii-edizione-38/
LOCATION:Online
CATEGORIES:Formazione
ATTACH;FMTTYPE=image/jpeg:https://www.confindustria.an.it/wp-content/uploads/2023/09/aeo_immagineBase_1140.jpg
END:VEVENT
BEGIN:VEVENT
DTSTART;TZID=Europe/Rome:20240911T173000
DTEND;TZID=Europe/Rome:20240911T183000
DTSTAMP:20260423T084255
CREATED:20240902T093012Z
LAST-MODIFIED:20240902T093012Z
UID:39814-1726075800-1726079400@www.confindustria.an.it
SUMMARY:Gruppo Merceologico Costruttori di Impianti
DESCRIPTION:
URL:https://www.confindustria.an.it/evento/gruppo-merceologico-costruttori-di-impianti-2/
LOCATION:Confindustria Ancona\, Via Ing. Roberto Bianchi snc\, Ancona\, 60131\, Italia
CATEGORIES:Incontro riservato
END:VEVENT
BEGIN:VEVENT
DTSTART;TZID=Europe/Rome:20240905T180000
DTEND;TZID=Europe/Rome:20240905T190000
DTSTAMP:20260423T084255
CREATED:20240902T061744Z
LAST-MODIFIED:20240902T061744Z
UID:39798-1725559200-1725562800@www.confindustria.an.it
SUMMARY:Comitato Territoriale del Comprensorio Fabrianese
DESCRIPTION:Ordine del giorno: \n\n1. Elezione del Presidente e del Vicepresidente;\nComunicazioni della nuova Presidenza;\nAttività ed eventi futuri del 2024;\nVarie ed eventuali.
URL:https://www.confindustria.an.it/evento/comitato-territoriale-del-comprensorio-fabrianese-4/
LOCATION:Creativity in Fabriano\, Piazza Miliani\, 16\, Fabriano\, 60044\, Italia
CATEGORIES:Incontro riservato
END:VEVENT
BEGIN:VEVENT
DTSTART;TZID=Europe/Rome:20240905T090000
DTEND;TZID=Europe/Rome:20240905T130000
DTSTAMP:20260423T084255
CREATED:20230919T155005Z
LAST-MODIFIED:20230919T155055Z
UID:27734-1725526800-1725541200@www.confindustria.an.it
SUMMARY:Responsabile delle questioni doganali ai fini AEO |   III edizione
DESCRIPTION:MODULO 5 – Gestione e analisi dei rischi in materia doganale. Sistemi informatici doganali (50 ore)  \n\nPer tutti i dettagli del corso clicca qui
URL:https://www.confindustria.an.it/evento/responsabile-delle-questioni-doganali-ai-fini-aeo-iii-edizione-37/
LOCATION:Online
CATEGORIES:Formazione
ATTACH;FMTTYPE=image/jpeg:https://www.confindustria.an.it/wp-content/uploads/2023/09/aeo_immagineBase_1140.jpg
END:VEVENT
BEGIN:VEVENT
DTSTART;TZID=Europe/Rome:20240725T180000
DTEND;TZID=Europe/Rome:20240725T190000
DTSTAMP:20260423T084255
CREATED:20240718T142201Z
LAST-MODIFIED:20240718T142201Z
UID:37956-1721930400-1721934000@www.confindustria.an.it
SUMMARY:Consiglio Direttivo dei Giovani Imprenditori di Confindustria Ancona
DESCRIPTION:Ordine del giorno: \n– Visita dell’azienda Bebop srl; \n– Comunicazioni relative alle prossime iniziative; \n– Varie ed eventuali.
URL:https://www.confindustria.an.it/evento/consiglio-direttivo-dei-giovani-imprenditori-di-confindustria-ancona-3/
LOCATION:BEBOP S.R.L.\, Via della Sbrozzola\, 48\, Camerano\, Italia
CATEGORIES:Giovani Imprenditori,Incontro riservato
END:VEVENT
BEGIN:VEVENT
DTSTART;TZID=Europe/Rome:20240724T100000
DTEND;TZID=Europe/Rome:20240724T120000
DTSTAMP:20260423T084255
CREATED:20240701T062824Z
LAST-MODIFIED:20240701T063330Z
UID:37352-1721815200-1721822400@www.confindustria.an.it
SUMMARY:Roadshow 2024 di Conai
DESCRIPTION:RENTRI. Come prepararsi all’avvio dell’operatività \nMercoledì 24.07.2024 ore 10:00 -12:00 \nWebinar per solo imprese associate a CONFINDUSTRIA MARCHE / Associazioni territoriali di Pesaro Urbino\, Ancona\, Macerata\, Fermo e Ascoli Piceno.  \nLink per iscrizione \nhttps://bit.ly/Webinar24072024 \n  \nPer info: Valentina Giammichele email v.giammichele@confindustria.an.it  – tel 071 29048256 – cell 335 1027976 \n 
URL:https://www.confindustria.an.it/evento/roadshow-2024-di-conai-2/
LOCATION:Online
CATEGORIES:Webinar
ATTACH;FMTTYPE=image/jpeg:https://www.confindustria.an.it/wp-content/uploads/2024/04/Conai2024.jpg
END:VEVENT
BEGIN:VEVENT
DTSTART;TZID=Europe/Rome:20240723T170000
DTEND;TZID=Europe/Rome:20240723T190000
DTSTAMP:20260423T084255
CREATED:20240716T064241Z
LAST-MODIFIED:20240716T064336Z
UID:37804-1721754000-1721761200@www.confindustria.an.it
SUMMARY:Comprensorio delle Valli dell’Aspio e del Musone
DESCRIPTION:Comprensorio delle Valli dell’Aspio e del Musone\nI temi trattati saranno: \n– Presentazione dei lavori e delle attività svolte dal Campus “I giovani crescono con il territorio”; \n– Brain storming per l’organizzazione della mostra “Storie di futuro” da tenere ad Osimo alla fine di ottobre in occasione dell’Ottantesimo di Confindustria Ancona.
URL:https://www.confindustria.an.it/evento/comprensorio-delle-valli-dellaspio-e-del-musone-2/
LOCATION:La Casa in Campagna\, Frazione Sappanico\, 93\, 60031\, Ancona\, Italia
CATEGORIES:Incontro riservato
END:VEVENT
BEGIN:VEVENT
DTSTART;TZID=Europe/Rome:20240719T180000
DTEND;TZID=Europe/Rome:20240719T193000
DTSTAMP:20260423T084255
CREATED:20240705T070612Z
LAST-MODIFIED:20240718T093831Z
UID:37681-1721412000-1721417400@www.confindustria.an.it
SUMMARY:Industria e territorio: binomio possibile?
DESCRIPTION:Industria e territorio: binomio possibile?\n\n			\n									Maggiori info\n					\n			\n									Per partecipare registrati qui\n					\n																										 \nProgramma\nOre 18:00 Saluti istituzionali \nMassimo Olivetti\, Sindaco SenigalliaAmmiraglio Ispettore Vincenzo Vitale\, Direttore Marittimo e Comandante del porto di AnconaGino Sabatini\, Presidente CCIAA Marche \nOre 18:15 Tavola rotondaCoppie vincenti: il valore dell’accoglienza \nMoreno Cedroni e Mariella Organi\, Madonnina del PescatoreMichele Bernetti e Monica Gabrielli\, Umani Ronchi e Grand Hotel Palace \nOre 18:35 Tavola rotondaVolare da e verso le Marche: un sogno possibile \nAlexander D’Orsogna\, AD Ancona International Airport Francesco Acquaroli Governatore Regione Marche \nOre 18:55 InterventoGestire il turismo attraverso i datiAndrea Gentili\, Sales Manager Enterprise TIM \nOre 19:10 Tavola rotondaTerritori: possono diventare brand da esportare? \nMauro Carbone\, esperto di destination management e di sviluppo turistico territorialeEugenio Gallo\, CEO Gest GroupLudovico Scortichini\, CEO GoWorlde membro di ASTOI Viaggi Confindustria \n \nOre 19:30  Conclusioni Pierluigi Bocchini\, Presidente Confindustria Ancona
URL:https://www.confindustria.an.it/evento/industria-e-territorio-binomio-possibile/
LOCATION:Rotonda a Mare | Senigallia\, Piazzale della Libertà\, 23\, Senigallia\, AN\, 60019\, Italia
END:VEVENT
BEGIN:VEVENT
DTSTART;TZID=Europe/Rome:20240718T160000
DTEND;TZID=Europe/Rome:20240718T180000
DTSTAMP:20260423T084255
CREATED:20240709T074526Z
LAST-MODIFIED:20240709T074941Z
UID:37715-1721318400-1721325600@www.confindustria.an.it
SUMMARY:Regolarità Legge 68/99 alternative e strumenti disponibili Tavola Rotonda
DESCRIPTION:Regolarità Legge 68/99 alternative e strumenti disponibili\nTavola Rotonda\nIncontro operativo per un confronto tra addetti ai lavori su come affrontare le criticità sulla normativa della Legge 68/99 \nInterverranno: \nDott.ssa Giorgia Sordoni Presidente del Centro Papa Giovanni XXIII  \nDott.ssa Elia Salvucci Coordinatore politiche sociali Polo9 Società Cooperativa Sociale \nDott. Daniele Tassi Presidente Odòs Società Cooperativa Sociale \nTermine dei lavori previsto per le ore 18.00 \nPer partecipare iscriviti su https://bit.ly/4eXNkEo \nEvento gratuito riservato alle aziende associate \n													\n			\n									locandina
URL:https://www.confindustria.an.it/evento/regolarita-legge-68-99-alternative-e-strumenti-disponibili-tavola-rotonda/
LOCATION:Confindustria Ancona\, Via Ing. Roberto Bianchi snc\, Ancona\, 60131\, Italia
CATEGORIES:Incontro
END:VEVENT
BEGIN:VEVENT
DTSTART;TZID=Europe/Rome:20240718T090000
DTEND;TZID=Europe/Rome:20240718T120000
DTSTAMP:20260423T084255
CREATED:20230919T154931Z
LAST-MODIFIED:20230919T154937Z
UID:27732-1721293200-1721304000@www.confindustria.an.it
SUMMARY:Responsabile delle questioni doganali ai fini AEO |   III edizione
DESCRIPTION:MODULO 4 – IVA negli scambi internazionali (25 ore)  \n\nPer tutti i dettagli del corso clicca qui
URL:https://www.confindustria.an.it/evento/responsabile-delle-questioni-doganali-ai-fini-aeo-iii-edizione-36/
LOCATION:Online
CATEGORIES:Formazione
ATTACH;FMTTYPE=image/jpeg:https://www.confindustria.an.it/wp-content/uploads/2023/09/aeo_immagineBase_1140.jpg
END:VEVENT
BEGIN:VEVENT
DTSTART;TZID=Europe/Rome:20240716T100000
DTEND;TZID=Europe/Rome:20240716T123000
DTSTAMP:20260423T084255
CREATED:20240701T062453Z
LAST-MODIFIED:20240701T063415Z
UID:37346-1721124000-1721133000@www.confindustria.an.it
SUMMARY:Roadshow 2024 di Conai
DESCRIPTION:Regolamenti UE su Batterie e FGAS. Prossimi adempimenti per le imprese\nMartedì 16.07.2024 ore 10:00 – 12:00 \nWebinar per imprese associate di tutte le territoriali Confindustria aderenti al Roadshow \nLink per iscrizione \nhttps://bit.ly/Webinar16072024 \n \nPer info:Valentina Giammichele email v.giammichele@confindustria.an.it  – tel 071 29048256 – cell 335 1027976
URL:https://www.confindustria.an.it/evento/roadshow-2024-di-conai/
LOCATION:Online
CATEGORIES:Webinar
ATTACH;FMTTYPE=image/jpeg:https://www.confindustria.an.it/wp-content/uploads/2024/04/Conai2024.jpg
END:VEVENT
BEGIN:VEVENT
DTSTART;TZID=Europe/Rome:20240711T173000
DTEND;TZID=Europe/Rome:20240711T183000
DTSTAMP:20260423T084255
CREATED:20240702T093153Z
LAST-MODIFIED:20240702T093229Z
UID:37482-1720719000-1720722600@www.confindustria.an.it
SUMMARY:Gruppo Merceologico Chimica\, Gomma e Affini
DESCRIPTION:
URL:https://www.confindustria.an.it/evento/gruppo-merceologico-chimica-gomma-e-affini-2/
LOCATION:Confindustria Ancona\, Via Ing. Roberto Bianchi snc\, Ancona\, 60131\, Italia
CATEGORIES:Incontro riservato
END:VEVENT
BEGIN:VEVENT
DTSTART;TZID=Europe/Rome:20240711T150000
DTEND;TZID=Europe/Rome:20240711T183000
DTSTAMP:20260423T084255
CREATED:20240625T103722Z
LAST-MODIFIED:20240625T104013Z
UID:37186-1720710000-1720722600@www.confindustria.an.it
SUMMARY:Credito ricerca e sviluppo: cosa fare?
DESCRIPTION:Credito ricerca e sviluppo: cosa fare?\n\nProgramma e maggiori dettagli
URL:https://www.confindustria.an.it/evento/credito-ricerca-e-sviluppo-cosa-fare/
LOCATION:Confindustria Ancona\, Via Ing. Roberto Bianchi snc\, Ancona\, 60131\, Italia
CATEGORIES:Incontro
END:VEVENT
BEGIN:VEVENT
DTSTART;TZID=Europe/Rome:20240711T090000
DTEND;TZID=Europe/Rome:20240711T140000
DTSTAMP:20260423T084255
CREATED:20230919T154908Z
LAST-MODIFIED:20230919T154908Z
UID:27730-1720688400-1720706400@www.confindustria.an.it
SUMMARY:Responsabile delle questioni doganali ai fini AEO |   III edizione
DESCRIPTION:MODULO 4 – IVA negli scambi internazionali (25 ore)  \n\nPer tutti i dettagli del corso clicca qui
URL:https://www.confindustria.an.it/evento/responsabile-delle-questioni-doganali-ai-fini-aeo-iii-edizione-35/
LOCATION:Online
CATEGORIES:Formazione
ATTACH;FMTTYPE=image/jpeg:https://www.confindustria.an.it/wp-content/uploads/2023/09/aeo_immagineBase_1140.jpg
END:VEVENT
BEGIN:VEVENT
DTSTART;TZID=Europe/Rome:20240710T090000
DTEND;TZID=Europe/Rome:20240710T180000
DTSTAMP:20260423T084255
CREATED:20240328T140543Z
LAST-MODIFIED:20240328T140543Z
UID:34104-1720602000-1720634400@www.confindustria.an.it
SUMMARY:Project Management: Percorso di Formazione e Certificazione
DESCRIPTION:Guarda la notizia\n\n\nScarica il programma\n\n\nPer partecipare registrati qui
URL:https://www.confindustria.an.it/evento/project-management-percorso-di-formazione-e-certificazione-5/
LOCATION:Online
CATEGORIES:Formazione
END:VEVENT
BEGIN:VEVENT
DTSTART;TZID=Europe/Rome:20240709T173000
DTEND;TZID=Europe/Rome:20240709T190000
DTSTAMP:20260423T084255
CREATED:20240702T085804Z
LAST-MODIFIED:20240702T093103Z
UID:37478-1720546200-1720551600@www.confindustria.an.it
SUMMARY:Comitato Territoriale delle Valli dell’Aspio e del Musone
DESCRIPTION:Ordine del giorno: \n\n1. Elezione del Presidente e del Vicepresidente;\nComunicazioni della nuova Presidenza;\nAttività ed eventi futuri del 2024;\nVarie ed eventuali.
URL:https://www.confindustria.an.it/evento/comitato-territoriale-delle-valli-dellaspio-e-del-musone-4/
LOCATION:Casa Vinicola Garofoli Spa\, Via Carlo Marx\, 123\, Castelfidardo\, AN\, 60022
CATEGORIES:Incontro riservato
END:VEVENT
BEGIN:VEVENT
DTSTART;TZID=Europe/Rome:20240704T180000
DTEND;TZID=Europe/Rome:20240704T190000
DTSTAMP:20260423T084255
CREATED:20240617T095139Z
LAST-MODIFIED:20240617T095139Z
UID:36995-1720116000-1720119600@www.confindustria.an.it
SUMMARY:Comitato Territoriale Vallesina
DESCRIPTION:Ordine del giorno: \n\nElezione del Presidente e del Vicepresidente;\nComunicazioni della nuova Presidenza;\nAggiornamento rapporti Comune di Jesi;\nAttività ed eventi futuri del 2024;\nVarie ed eventuali.
URL:https://www.confindustria.an.it/evento/comitato-territoriale-vallesina-11/
LOCATION:Enovetro S.p.a.\, Via del Lavoro\, 26\, Monte Roberto\, 60030\, Italia
CATEGORIES:Incontro riservato
END:VEVENT
BEGIN:VEVENT
DTSTART;TZID=Europe/Rome:20240704T143000
DTEND;TZID=Europe/Rome:20240704T163000
DTSTAMP:20260423T084255
CREATED:20240701T100155Z
LAST-MODIFIED:20240701T100240Z
UID:37451-1720103400-1720110600@www.confindustria.an.it
SUMMARY:Crisi Russia-Ucraina: pubblicato il 14mo pacchetto di sanzioni UE verso la Russia
DESCRIPTION:Lo scorso 24 giugno 2024 è stato pubblicato il 14mo pacchetto di misure restrittive UE nei confronti della Federazione Russa. \nCome sempre sono numerose le novità intervenute\, sia in termini di restrizioni soggettive\, con l’ampliamento dell’elenco delle persone fisiche\, giuridiche ed entità in black list\, sia in termini di restrizioni merceologiche\, con l’inserimento di nuovi prodotti tra quelli di vietata/ristretta importazione o esportazione. \nAl fine di illustrare le principali novità contenute nel 14mo pacchetto ed offrire un quadro generale sullo stato delle restrizioni verso la Federazione Russa\, Confindustria Ancona organizza\, in collaborazione con altre associazioni del sistema e con il supporto dello Studio Legale Padovan\, un webinar il giorno 4 luglio 2024\, a partire dalle ore 14:30. \nLa partecipazione\, riservata alle aziende socie di Confindustria Ancona\, è gratuita. \nPer aderire è necessario inviare una mail a u.martelli@confindustria.an.it indicando nome\, cognome e indirizzo mail del partecipante al quale\, il giorno prima dell’evento\, verrà inviato il link del collegamento. \nCrisi Russia-Ucraina: pubblicato il 14mo pacchetto di sanzioni UE verso la Russia
URL:https://www.confindustria.an.it/evento/crisi-russia-ucraina-pubblicato-il-14mo-pacchetto-di-sanzioni-ue-verso-la-russia/
LOCATION:Online
CATEGORIES:Webinar
END:VEVENT
BEGIN:VEVENT
DTSTART;TZID=Europe/Rome:20240704T090000
DTEND;TZID=Europe/Rome:20240704T130000
DTSTAMP:20260423T084255
CREATED:20230919T154845Z
LAST-MODIFIED:20230919T154845Z
UID:27728-1720083600-1720098000@www.confindustria.an.it
SUMMARY:Responsabile delle questioni doganali ai fini AEO |   III edizione
DESCRIPTION:MODULO 4 – IVA negli scambi internazionali (25 ore)  \n\nPer tutti i dettagli del corso clicca qui
URL:https://www.confindustria.an.it/evento/responsabile-delle-questioni-doganali-ai-fini-aeo-iii-edizione-34/
LOCATION:Online
CATEGORIES:Formazione
ATTACH;FMTTYPE=image/jpeg:https://www.confindustria.an.it/wp-content/uploads/2023/09/aeo_immagineBase_1140.jpg
END:VEVENT
BEGIN:VEVENT
DTSTART;TZID=Europe/Rome:20240702T150000
DTEND;TZID=Europe/Rome:20240702T180000
DTSTAMP:20260423T084255
CREATED:20240621T062257Z
LAST-MODIFIED:20240625T125150Z
UID:37087-1719932400-1719943200@www.confindustria.an.it
SUMMARY:Visita alla Loccioni
DESCRIPTION:Giovani Imprenditori in visita alla Loccioni\n\nVisita ai laboratori lungo i 2 km di futuro;\nTestimonianza imprenditoriale e confronto con i Giovani Imprenditori.\nVisita all’abbazia di Sant’Urbano e aperitivo sotto il fienile.\n\n“Aperta\, familiare\, vitale. Una scuola di competenze per studenti e professori\, clienti e fornitori\, che genera ricchezza reinvestendo i suoi utili nel territorio. \nÈ l’impresa pensata nel 1968 da Enrico e Graziella. Impresa\, non azienda\, perché ogni progetto è un’avventura che integra idee\, persone e tecnologie. \nÈ l’impresa che semina bellezza. \nLavoriamo per il benessere della persona e del pianeta. Lo facciamo ricercando\, misurando e costruendo reti per il lavoro\, per la conoscenza\, per l’ambiente.” (www.loccioni.com) \n			\n									locandina\n					\n			\n									Per partecipare registrati qui\n					 \nPer maggiori informazioni contattare Federico GiuliodoriTel. 071 29048260 | email f.giuliodori@confindustria.an.it \n																										 \nDalle 14 alle 15 è convocato il Consiglio Direttivo dei Giovani Imprenditori. \nOrdine del giorno: \n\nFeedback sull’evento “Linea diretta con l’Europa”;\nAggiornamento sulle prossime elezioni del Presidente Giovani Imprenditori Confindustria Marche e Presidente Giovani Imprenditori Confindustria;\nContributo Giovani Imprenditori al Campus di Fabriano – Hackathon 22-23 luglio;\nProssimi progetti formativi;\nVarie ed eventuali.\n\n  \nA seguire visita alla Loccioni
URL:https://www.confindustria.an.it/evento/visita-alla-loccioni/
LOCATION:LOCCIONI\, Via Fiume\, 16\, Angeli di Rosora\, Italia
CATEGORIES:Giovani Imprenditori
END:VEVENT
BEGIN:VEVENT
DTSTART;TZID=Europe/Rome:20240702T150000
DTEND;TZID=Europe/Rome:20240702T170000
DTSTAMP:20260423T084255
CREATED:20240617T064747Z
LAST-MODIFIED:20240625T131834Z
UID:36983-1719932400-1719939600@www.confindustria.an.it
SUMMARY:Visita aziendale alla LOCCIONI
DESCRIPTION:Visita aziendale\nGiovani Imprenditori\npresso LOCCIONI Via Fiume 16\, 60030 Angeli di Rosora\, Ancona\, Italy\n\nVisita ai laboratori lungo i 2 km di futuro;\nTestimonianza imprenditoriale e confronto con i Giovani Imprenditori.\nVisita all’abbazia di Sant’Urbano e aperitivo sotto il fienile.\n\n\nPer partecipare è necessario registrarsi
URL:https://www.confindustria.an.it/evento/visita-aziendale-alla-loccioni/
LOCATION:LOCCIONI\, Via Fiume\, 16\, Angeli di Rosora\, Italia
CATEGORIES:Giovani Imprenditori
END:VEVENT
END:VCALENDAR