BEGIN:VCALENDAR
VERSION:2.0
PRODID:-//Confindustria Ancona - ECPv6.15.12.2//NONSGML v1.0//EN
CALSCALE:GREGORIAN
METHOD:PUBLISH
X-WR-CALNAME:Confindustria Ancona
X-ORIGINAL-URL:https://www.confindustria.an.it
X-WR-CALDESC:Eventi per Confindustria Ancona
REFRESH-INTERVAL;VALUE=DURATION:PT1H
X-Robots-Tag:noindex
X-PUBLISHED-TTL:PT1H
BEGIN:VTIMEZONE
TZID:Europe/Rome
BEGIN:DAYLIGHT
TZOFFSETFROM:+0100
TZOFFSETTO:+0200
TZNAME:CEST
DTSTART:20230326T010000
END:DAYLIGHT
BEGIN:STANDARD
TZOFFSETFROM:+0200
TZOFFSETTO:+0100
TZNAME:CET
DTSTART:20231029T010000
END:STANDARD
BEGIN:DAYLIGHT
TZOFFSETFROM:+0100
TZOFFSETTO:+0200
TZNAME:CEST
DTSTART:20240331T010000
END:DAYLIGHT
BEGIN:STANDARD
TZOFFSETFROM:+0200
TZOFFSETTO:+0100
TZNAME:CET
DTSTART:20241027T010000
END:STANDARD
BEGIN:DAYLIGHT
TZOFFSETFROM:+0100
TZOFFSETTO:+0200
TZNAME:CEST
DTSTART:20250330T010000
END:DAYLIGHT
BEGIN:STANDARD
TZOFFSETFROM:+0200
TZOFFSETTO:+0100
TZNAME:CET
DTSTART:20251026T010000
END:STANDARD
END:VTIMEZONE
BEGIN:VEVENT
DTSTART;TZID=Europe/Rome:20240625T160000
DTEND;TZID=Europe/Rome:20240625T170000
DTSTAMP:20260423T125505
CREATED:20240611T093606Z
LAST-MODIFIED:20240611T093606Z
UID:36907-1719331200-1719334800@www.confindustria.an.it
SUMMARY:Gruppo Merceologico Turismo\, Sport e Cultura
DESCRIPTION:Tavolo di confronto a cui parteciperà il Sindaco di Ancona per parlare di eventi ed iniziative che coinvolgeranno Ancona (G7 salute di ottobre\, accoglienza e comunicazione turisti c/o Porto di Ancona\, varie ed eventuali).
URL:https://www.confindustria.an.it/evento/gruppo-merceologico-turismo-sport-e-cultura-2/
LOCATION:Comune di Ancona\, Largo XXIV Maggio\, Ancona\, 60123\, Italia
CATEGORIES:Incontro riservato
END:VEVENT
BEGIN:VEVENT
DTSTART;TZID=Europe/Rome:20240624T090000
DTEND;TZID=Europe/Rome:20240624T130000
DTSTAMP:20260423T125505
CREATED:20240328T140354Z
LAST-MODIFIED:20240328T140354Z
UID:34100-1719219600-1719234000@www.confindustria.an.it
SUMMARY:Project Management: Percorso di Formazione e Certificazione
DESCRIPTION:Guarda la notizia\n\n\nScarica il programma\n\n\nPer partecipare registrati qui
URL:https://www.confindustria.an.it/evento/project-management-percorso-di-formazione-e-certificazione-3/
LOCATION:Online
CATEGORIES:Formazione
END:VEVENT
BEGIN:VEVENT
DTSTART;TZID=Europe/Rome:20240620T100000
DTEND;TZID=Europe/Rome:20240620T113000
DTSTAMP:20260423T125505
CREATED:20240610T094422Z
LAST-MODIFIED:20240610T095236Z
UID:36840-1718877600-1718883000@www.confindustria.an.it
SUMMARY:l Regolamento UE sulla Progettazione Ecocompatibile (ESPR): sfide e opportunità
DESCRIPTION:Confindustria organizza il webinar “Il Regolamento UE sulla Progettazione Ecocompatibile (ESPR): sfide e opportunità”\, che si terrà il 20 giugno 2024\, dalle ore 10:00 alle ore 11:30. \nL’obiettivo dell’incontro è quello di approfondire i principali aspetti del Regolamento e della sua attuazione\, con particolare riguardo agli obblighi e alle tempistiche di attuazione per ciascun settore e per la relativa legislazione secondaria che ne deriverà. \nInterverranno all’incontro:   \n\nIng. Giorgia Di GIovanni\, Divisione III\, Direzione Generale per la politica industriale\, la riconversione e la crisi industriale\, l’innovazione\, le PMI e il Made in Italy (MIMIT)\nDott.sa Caterina Attiani\, Attachè Politiche Industriali della Rappresentanza Permanete d’Italia presso l’UE.\n\nAl termine degli interventi\, ci sarà una sessione di Q&A aperta a tutti i partecipanti. \nPer partecipare è necessario compilare il form di iscrizione al seguente link: \nhttps://confindustria.zoom.us/webinar/register/WN_uf4Ym-WbQAWqLHuihu14tg \nIl link di partecipazione all’evento verrà generato al momento dell’iscrizione nella pagina del form e vi arriverà una mail qualche secondo dopo. Suggeriamo di controllare anche la casella posta indesiderata. \nPer ogni informazione potete rivolgervi a Valentina Giammichele email v.giammichele@confindustria.an.it tel 071 29048256. \n			\n									Trattamento dati personali webinar Confindustria
URL:https://www.confindustria.an.it/evento/l-regolamento-ue-sulla-progettazione-ecocompatibile-espr-sfide-e-opportunita/
LOCATION:Online
CATEGORIES:Webinar
ATTACH;FMTTYPE=image/png:https://www.confindustria.an.it/wp-content/uploads/2024/06/ESPR-bannersito1.png
END:VEVENT
BEGIN:VEVENT
DTSTART;TZID=Europe/Rome:20240620T090000
DTEND;TZID=Europe/Rome:20240620T140000
DTSTAMP:20260423T125505
CREATED:20230919T154734Z
LAST-MODIFIED:20230919T154740Z
UID:27724-1718874000-1718892000@www.confindustria.an.it
SUMMARY:Responsabile delle questioni doganali ai fini AEO |   III edizione
DESCRIPTION:MODULO 4 – IVA negli scambi internazionali (25 ore)  \n\nPer tutti i dettagli del corso clicca qui
URL:https://www.confindustria.an.it/evento/responsabile-delle-questioni-doganali-ai-fini-aeo-iii-edizione-32/
LOCATION:Online
CATEGORIES:Formazione
ATTACH;FMTTYPE=image/jpeg:https://www.confindustria.an.it/wp-content/uploads/2023/09/aeo_immagineBase_1140.jpg
END:VEVENT
BEGIN:VEVENT
DTSTART;TZID=Europe/Rome:20240619T160000
DTEND;TZID=Europe/Rome:20240619T180000
DTSTAMP:20260423T125505
CREATED:20240406T132036Z
LAST-MODIFIED:20240605T090845Z
UID:34397-1718812800-1718820000@www.confindustria.an.it
SUMMARY:Linea diretta con l’Europa
DESCRIPTION:Il ruolo di Confindustria a Bruxelles per lo sviluppo delle nostre imprese\nOre 16:30 Registrazione partecipanti \nOre 17:00 Saluti di aperturaGiulia Fanesi Presidente GI Confindustria AnconaGiorgio Moretti Presidente PI Confindustria AnconaPierluigi Bocchini Presidente Confindustria Ancona \nOre 17:15Adelmo Lelli Responsabile Direzione Territoriale Emilia-Adriatica di Banco BPM \nOre 17:30“L’‘impatto delle decisioni europee in ambito ESG nelle aziende”Prof. Maria Serena Chiucchi Direttore del Dipartimento di Management (DiMa) dell’Università Politecnica delle Marche \nOre 17:45“Uno sguardo alla Commissione Europea”InterventoRappresentante della Commissione europea \nOre 18:15“Il ruolo di Confindustria delegazione a Bruxelles”Intervento diMatteo Borsani Direttore della Delegazione di Confindustria a Bruxelles \nOre 19:00 Conclusioni diRiccardo Di Stefano Presidente GI Confindustria \n			\n									Per partecipare registrati qui\n					\n			\n									Scarica la locandina
URL:https://www.confindustria.an.it/evento/linea-diretta-con-leuropa/
LOCATION:SeeBay Hotel | Portonovo\, Via Poggio\, 160 | Portonovo\, Ancona\, 60129\, Italia
CATEGORIES:Giovani Imprenditori,Piccola Industria
END:VEVENT
BEGIN:VEVENT
DTSTART;TZID=Europe/Rome:20240618T103000
DTEND;TZID=Europe/Rome:20240618T123000
DTSTAMP:20260423T125505
CREATED:20240523T090611Z
LAST-MODIFIED:20240523T090636Z
UID:36157-1718706600-1718713800@www.confindustria.an.it
SUMMARY:Roadshow Conai 2024: Normativa imballaggi in UE e etichettatura imballaggi per i beni esportati
DESCRIPTION:Webinar per solo imprese associate di tutte le territoriali Confindustria aderenti al Roadshow \nTitolo: Normativa imballaggi in UE e etichettatura imballaggi per i beni esportati \nLink per iscrizione \nhttps://bit.ly/Webinar18062024
URL:https://www.confindustria.an.it/evento/roadshow-conai-2024-normativa-imballaggi-in-ue-e-etichettatura-imballaggi-per-i-beni-esportati/
LOCATION:Online
CATEGORIES:Webinar
ATTACH;FMTTYPE=image/jpeg:https://www.confindustria.an.it/wp-content/uploads/2024/04/Conai2024.jpg
END:VEVENT
BEGIN:VEVENT
DTSTART;TZID=Europe/Rome:20240617T173000
DTEND;TZID=Europe/Rome:20240617T183000
DTSTAMP:20260423T125505
CREATED:20240606T124815Z
LAST-MODIFIED:20240606T124815Z
UID:36752-1718645400-1718649000@www.confindustria.an.it
SUMMARY:Gruppo Merceologico Informatica
DESCRIPTION:Incontreremo il direttore operativo del EDIH4Marche\, Gaetano Ascenzi.  \nSarà un confronto particolarmente interessante per le aziende del nostro settore.
URL:https://www.confindustria.an.it/evento/gruppo-merceologico-informatica-4/
LOCATION:Confindustria Ancona\, Via Ing. Roberto Bianchi snc\, Ancona\, 60131\, Italia
CATEGORIES:Incontro riservato
END:VEVENT
BEGIN:VEVENT
DTSTART;TZID=Europe/Rome:20240617T090000
DTEND;TZID=Europe/Rome:20240617T130000
DTSTAMP:20260423T125505
CREATED:20240328T140258Z
LAST-MODIFIED:20240328T140428Z
UID:34098-1718614800-1718629200@www.confindustria.an.it
SUMMARY:Project Management: Percorso di Formazione e Certificazione
DESCRIPTION:Guarda la notizia\n\n\nScarica il programma\n\n\nPer partecipare registrati qui
URL:https://www.confindustria.an.it/evento/project-management-percorso-di-formazione-e-certificazione-2/
LOCATION:Online
CATEGORIES:Formazione
END:VEVENT
BEGIN:VEVENT
DTSTART;TZID=Europe/Rome:20240614T100000
DTEND;TZID=Europe/Rome:20240614T110000
DTSTAMP:20260423T125505
CREATED:20240611T061812Z
LAST-MODIFIED:20240611T061812Z
UID:36856-1718359200-1718362800@www.confindustria.an.it
SUMMARY:Comitato Territoriale Vallesina
DESCRIPTION:Ordine del giorno:\n1. Comunicazioni del Presidente Bocchini;\n2. Varie ed eventuali.
URL:https://www.confindustria.an.it/evento/comitato-territoriale-vallesina-10/
LOCATION:Online
CATEGORIES:Incontro
END:VEVENT
BEGIN:VEVENT
DTSTART;TZID=Europe/Rome:20240613T180000
DTEND;TZID=Europe/Rome:20240613T190000
DTSTAMP:20260423T125505
CREATED:20240604T105028Z
LAST-MODIFIED:20240604T105028Z
UID:36648-1718301600-1718305200@www.confindustria.an.it
SUMMARY:Comitato Territoriale Comprensorio Anconetano
DESCRIPTION:Ordine del giorno:\n1. Elezione del Presidente e del Vicepresidente;\n2. Comunicazioni della nuova Presidenza;\n3. Attività ed eventi futuri del 2024;\n4. Varie ed eventuali
URL:https://www.confindustria.an.it/evento/comitato-territoriale-comprensorio-anconetano-6/
LOCATION:Confindustria Ancona\, Via Ing. Roberto Bianchi snc\, Ancona\, 60131\, Italia
CATEGORIES:Incontro riservato
END:VEVENT
BEGIN:VEVENT
DTSTART;TZID=Europe/Rome:20240613T090000
DTEND;TZID=Europe/Rome:20240613T130000
DTSTAMP:20260423T125505
CREATED:20230919T154557Z
LAST-MODIFIED:20230919T154702Z
UID:27719-1718269200-1718283600@www.confindustria.an.it
SUMMARY:Responsabile delle questioni doganali ai fini AEO |   III edizione
DESCRIPTION:MODULO 4 – IVA negli scambi internazionali (25 ore)  \n\nPer tutti i dettagli del corso clicca qui
URL:https://www.confindustria.an.it/evento/responsabile-delle-questioni-doganali-ai-fini-aeo-iii-edizione-31/
LOCATION:Online
CATEGORIES:Formazione
ATTACH;FMTTYPE=image/jpeg:https://www.confindustria.an.it/wp-content/uploads/2023/09/aeo_immagineBase_1140.jpg
END:VEVENT
BEGIN:VEVENT
DTSTART;TZID=Europe/Rome:20240611T160000
DTEND;TZID=Europe/Rome:20240611T180000
DTSTAMP:20260423T125505
CREATED:20240531T071058Z
LAST-MODIFIED:20240604T063850Z
UID:36400-1718121600-1718128800@www.confindustria.an.it
SUMMARY:L’AZIENDA CHE VERRÀ Nuove Competenze e Organizzazione Aziendale
DESCRIPTION:Confindustria Ancona ha organizzato un incontro\, insieme alle agenzie per il lavoro del nostro territorio ed ai consulenti HR\, per aiutare le imprese a fronteggiare le nuove sfide in tema di organizzazione aziendale.  \nSi parlerà di: \nAttrarre le risorse: \n\nLe competenze del futuro: soft e digital skills (Manpower)\nLe academy formative: una modalità per avere personale formato per le proprie esigenze specifiche (Gi Group)\nLa formazione dei formatori in ambito sicurezza: per avere risorse preparate in azienda (Soluzioni)\n\n\nSelezione del personale \n\nL’intelligenza artificiale nel sistema organizzativo HR (Adecco)\n\n\nInserimento in azienda \n\nCome trasferire vision e mission aziendali ai neo assunti (During)\n\n\nTrattenere in azienda \n\nInclusione aziendale: perché la D&I non riguarda solo le grandi aziende (OpenJob Metis)\nBenessere organizzativo (Synergie e Macoma)\nWelfare aziendale: una modalità di attraction e retention (Randstad)\n\n			\n									Per partecipare registrati qui\n					\n			\n									Locandina stampabile
URL:https://www.confindustria.an.it/evento/lazienda-che-verra-nuove-competenze-e-organizzazione-aziendale/
LOCATION:Creativity in Fabriano\, Piazza Miliani\, 16\, Fabriano\, 60044\, Italia
CATEGORIES:Incontro
END:VEVENT
BEGIN:VEVENT
DTSTART;TZID=Europe/Rome:20240611T150000
DTEND;TZID=Europe/Rome:20240611T190000
DTSTAMP:20260423T125505
CREATED:20240530T104807Z
LAST-MODIFIED:20240603T082956Z
UID:36355-1718118000-1718132400@www.confindustria.an.it
SUMMARY:Riforma della fiscalità internazionale ed Evoluzione della normativa valutaria alla luce Del d.lgs. N. 209 del 27/12/2023
DESCRIPTION:Riforma della fiscalità internazionale ed Evoluzione della normativa valutaria alla luce Del d.lgs. N. 209 del 27/12/2023: Principali novità ed opportunità per privati ed imprese\nLa “Commissione sulla Internazionalizzazione”\, dell’ODCEC di Ancona\, ha approfondito le novità fiscali recate dalla Legge Delega per la Riforma alla luce del D.lgs. n. 209 del 27/12/2023 che saranno illustrate il prossimo \n11 giugno alle ore 15\,00 presso la sede Confindustria Ancona. \nIl programma dei lavori è illustrato nella locandina allegata. \nL’incontro\, aperto alle nostre aziende\, è gratuito. \nPer partecipare clicca qui \n  \nPer chiarimenti contattare Marcella Gerinitel: tel 071 29048217 \nm.gerini@confindustria.an.it \n			\n									Locandina
URL:https://www.confindustria.an.it/evento/riforma-della-fiscalita-internazionale-ed-evoluzione-della-normativa-valutaria-alla-luce-del-d-lgs-n-209-del-27-12-2023-principali-novita-ed-opportunita-per-privati-ed-imprese/
CATEGORIES:Incontro
ATTACH;FMTTYPE=image/jpeg:https://www.confindustria.an.it/wp-content/uploads/2024/05/LOCANDINA_11_6_1140-scaled.jpg
END:VEVENT
BEGIN:VEVENT
DTSTART;TZID=Europe/Rome:20240611T103000
DTEND;TZID=Europe/Rome:20240611T123000
DTSTAMP:20260423T125505
CREATED:20240523T090515Z
LAST-MODIFIED:20240523T090515Z
UID:36155-1718101800-1718109000@www.confindustria.an.it
SUMMARY:Roadshow Conai 2024: MUD 2024
DESCRIPTION:Webinar per solo imprese associate di tutte le territoriali Confindustria aderenti al Roadshow \nTitolo: MUD 2024    \nLink per iscrizione \nhttps://bit.ly/Webinar11062024
URL:https://www.confindustria.an.it/evento/roadshow-conai-2024-mud-2024/
LOCATION:Online
CATEGORIES:Webinar
ATTACH;FMTTYPE=image/jpeg:https://www.confindustria.an.it/wp-content/uploads/2024/04/Conai2024.jpg
END:VEVENT
BEGIN:VEVENT
DTSTART;TZID=Europe/Rome:20240611T090000
DTEND;TZID=Europe/Rome:20240611T180000
DTSTAMP:20260423T125505
CREATED:20240328T135545Z
LAST-MODIFIED:20240328T140051Z
UID:34088-1718096400-1718128800@www.confindustria.an.it
SUMMARY:Project Management: Percorso di Formazione e Certificazione
DESCRIPTION:Guarda la notizia\n\n\nScarica il programma\n\n\nPer partecipare registrati qui
URL:https://www.confindustria.an.it/evento/project-management-percorso-di-formazione-e-certificazione/
LOCATION:Online
CATEGORIES:Formazione
END:VEVENT
BEGIN:VEVENT
DTSTART;TZID=Europe/Rome:20240607T100000
DTEND;TZID=Europe/Rome:20240607T170000
DTSTAMP:20260423T125505
CREATED:20240521T081713Z
LAST-MODIFIED:20240604T075956Z
UID:36006-1717754400-1717779600@www.confindustria.an.it
SUMMARY:FEDERAZIONE CARTA E GRAFICA: 2° MEETING SEZIONI RIUNITE DEL CENTRO ITALIA - LA NOSTRA FILIERA AL CENTRO
DESCRIPTION:Rafforzare la conoscenza del settore creando un gruppo forte e coeso \nIl 7 giugno 2024 Confindustria Ancona ospiterà il 2° MEETING SEZIONI RIUNITE DEL CENTRO ITALIA di Federazione Carta e Grafica di Confindustria. \nScopo dell’incontro\, arrivato alla seconda edizione\, è quello di costruire un momento di networking tra le Sezioni Carto-Grafiche di Marche\, Umbria e Lazio finalizzato alla condivisione di progettualità ed iniziative. \nIl meeting è arricchito anche da un focus tematico\, che quest’anno sarà dedicato al tema del Valore della Carta. \nPer maggiori informazioni: Valentina Giammichele v.giammichele@confindustria.an.it; Tel. 071 29048256; Cell. 335 1027976 . \n\n\n\nPer partecipare registrati qui\n\n\nProgramma
URL:https://www.confindustria.an.it/evento/federazione-carta-e-grafica-2-meeting-sezioni-riunite-del-centro-italia-la-nostra-filiera-al-centro/
LOCATION:Confindustria Ancona\, Via Ing. Roberto Bianchi snc\, Ancona\, 60131\, Italia
CATEGORIES:Incontro riservato
END:VEVENT
BEGIN:VEVENT
DTSTART;TZID=Europe/Rome:20240606T153000
DTEND;TZID=Europe/Rome:20240606T180000
DTSTAMP:20260423T125505
CREATED:20240603T083258Z
LAST-MODIFIED:20240603T084036Z
UID:36452-1717687800-1717696800@www.confindustria.an.it
SUMMARY:Comunità energetiche: modelli di produzione e consumo condivisi. Dalla norma alla prassi sostenibile
DESCRIPTION:Confindustria Ancona è lieta di segnalare il workshop organizzato da ISTAO“Comunità energetiche: modelli di produzione e consumo condivisi. Dalla norma alla prassi sostenibile”Appuntamento giovedì 6 giugno alle ore 15\,30 presso la sede di ISTAO ad Ancona\, Villa Favorita\, largo Giorgio Fuà. Il worshop è in presenza ma è prevista anche una diretta streaming su istao.it e www.radioradicale.it\n\nScarica il programma\n\n\nPer partecipare registrati qui
URL:https://www.confindustria.an.it/evento/comunita-energetiche-modelli-di-produzione-e-consumo-condivisi-dalla-norma-alla-prassi-sostenibile/
CATEGORIES:Incontro
ATTACH;FMTTYPE=image/jpeg:https://www.confindustria.an.it/wp-content/uploads/2024/06/Istao_6giugno_1140.jpg
END:VEVENT
BEGIN:VEVENT
DTSTART;TZID=Europe/Rome:20240606T090000
DTEND;TZID=Europe/Rome:20240606T180000
DTSTAMP:20260423T125505
CREATED:20240328T140726Z
LAST-MODIFIED:20240328T140726Z
UID:34096-1717664400-1717696800@www.confindustria.an.it
SUMMARY:Project Management: Percorso di Formazione e Certificazione
DESCRIPTION:Guarda la notizia\n\n\nScarica il programma\n\n\nPer partecipare registrati qui
URL:https://www.confindustria.an.it/evento/project-management-percorso-di-formazione-e-certificazione-6/
LOCATION:Confindustria Ancona\, Via Ing. Roberto Bianchi snc\, Ancona\, 60131\, Italia
CATEGORIES:Formazione
END:VEVENT
BEGIN:VEVENT
DTSTART;TZID=Europe/Rome:20240606T090000
DTEND;TZID=Europe/Rome:20240606T130000
DTSTAMP:20260423T125505
CREATED:20230919T154454Z
LAST-MODIFIED:20230919T154454Z
UID:27717-1717664400-1717678800@www.confindustria.an.it
SUMMARY:Responsabile delle questioni doganali ai fini AEO |   III edizione
DESCRIPTION:MODULO 3 – Accertamento doganale: contradditorio e contenzioso (25 ore) \n\nPer tutti i dettagli del corso clicca qui
URL:https://www.confindustria.an.it/evento/responsabile-delle-questioni-doganali-ai-fini-aeo-iii-edizione-30/
LOCATION:Online
CATEGORIES:Formazione
ATTACH;FMTTYPE=image/jpeg:https://www.confindustria.an.it/wp-content/uploads/2023/09/aeo_immagineBase_1140.jpg
END:VEVENT
BEGIN:VEVENT
DTSTART;TZID=Europe/Rome:20240531T163000
DTEND;TZID=Europe/Rome:20240531T210000
DTSTAMP:20260423T125505
CREATED:20240524T102925Z
LAST-MODIFIED:20240524T103749Z
UID:36205-1717173000-1717189200@www.confindustria.an.it
SUMMARY:Seconda tappa del percorso di Confindustria Ancona verso gli 80anni
DESCRIPTION:L’Ottantesimo fa tappa a Fabriano\n\nVenerdì 31 maggio – Fabriano\n																										 \n\n					ore 16:30\n					Assemblea privata (riservata ai Soci) \nc/o Mostra Creativity in Fabriano\n					\n			\n									Tutti i dettagli\n					\n																										 \n\n					ore 17:30\n					Dalla scuola all’impresa: il valore delle competenze \nc/o Teatro Gentile\n					\n			\n									Per partecipare registrati qui\n					 \n\n					ore 19:30\n					Aperitivo buffet  \nc/o Loggiato San Francesco
URL:https://www.confindustria.an.it/evento/seconda-tappa-del-percorso-di-confindustria-ancona-verso-gli-80anni/
CATEGORIES:Incontro
END:VEVENT
BEGIN:VEVENT
DTSTART;TZID=Europe/Rome:20240530T143000
DTEND;TZID=Europe/Rome:20240530T183000
DTSTAMP:20260423T125505
CREATED:20240228T075025Z
LAST-MODIFIED:20240228T075025Z
UID:32902-1717079400-1717093800@www.confindustria.an.it
SUMMARY:Rappresentante dei Lavoratori per la Sicurezza (RLS) | Aggiornamento Annuale 2ª EDIZIONE 2024
DESCRIPTION:SO.GE.S.I. srl organizza la prima edizione 2023 del corso obbligatorio di aggiornamento annuale per Rappresentante dei Lavoratori per la Sicurezza\, previsto dall’art. 37\, comma 11\, del Decreto Legislativo 9 aprile 2008\, n. 81 e s.m.i. Il corso prevede aggiornamenti di natura tecnico-organizzativa e normativi. \n\nPDF programma completo\n\n\nISCRIZIONE\n \nDESTINATARI \nRappresentanti dei Lavoratori per la Sicurezza (che abbiano già frequentato il corso base). \nATTESTATO \nAl termine del corso\, a seguito della frequenza del monte ore previsto e del superamento della verifica finale\, sarà rilasciato attestato valido ai fini di legge.
URL:https://www.confindustria.an.it/evento/rappresentante-dei-lavoratori-per-la-sicurezza-rls-aggiornamento-annuale-2a-edizione-2024-2/
LOCATION:Confindustria Ancona\, Via Ing. Roberto Bianchi snc\, Ancona\, 60131\, Italia
CATEGORIES:Formazione
END:VEVENT
BEGIN:VEVENT
DTSTART;TZID=Europe/Rome:20240530T090000
DTEND;TZID=Europe/Rome:20240530T130000
DTSTAMP:20260423T125505
CREATED:20230919T154429Z
LAST-MODIFIED:20230919T154429Z
UID:27715-1717059600-1717074000@www.confindustria.an.it
SUMMARY:Responsabile delle questioni doganali ai fini AEO |   III edizione
DESCRIPTION:MODULO 3 – Accertamento doganale: contradditorio e contenzioso (25 ore) \n\nPer tutti i dettagli del corso clicca qui
URL:https://www.confindustria.an.it/evento/responsabile-delle-questioni-doganali-ai-fini-aeo-iii-edizione-29/
LOCATION:Online
CATEGORIES:Formazione
ATTACH;FMTTYPE=image/jpeg:https://www.confindustria.an.it/wp-content/uploads/2023/09/aeo_immagineBase_1140.jpg
END:VEVENT
BEGIN:VEVENT
DTSTART;TZID=Europe/Rome:20240529T173000
DTEND;TZID=Europe/Rome:20240529T183000
DTSTAMP:20260423T125505
CREATED:20240521T124224Z
LAST-MODIFIED:20240521T124259Z
UID:36106-1717003800-1717007400@www.confindustria.an.it
SUMMARY:Riunione del Comitato Piccola Industria di Confindustria Ancona
DESCRIPTION:Ordine del giorno: \n– Approvazione verbale precedente riunione Comitato P.I.;\n– Protocollo ANCI – comunità energetiche;\n– Evento “Linea diretta con l’Europa” 19 giugno Portonovo – GI e PI Ancona\n– Proposte per altre attività 2024;\n– Varie ed eventuali.
URL:https://www.confindustria.an.it/evento/riunione-del-comitato-piccola-industria-di-confindustria-ancona/
LOCATION:Confindustria Ancona\, Via Ing. Roberto Bianchi snc\, Ancona\, 60131\, Italia
CATEGORIES:Piccola Industria
END:VEVENT
BEGIN:VEVENT
DTSTART;TZID=Europe/Rome:20240529T143000
DTEND;TZID=Europe/Rome:20240529T183000
DTSTAMP:20260423T125505
CREATED:20240116T152004Z
LAST-MODIFIED:20240312T120034Z
UID:31404-1716993000-1717007400@www.confindustria.an.it
SUMMARY:Rappresentante dei lavoratori per la sicurezza | RLS Corso base 32 ore
DESCRIPTION:La sorveglianza sanitaria e l’idoneità alla mansione- funzione del medico competente \nUlteriori rischi presenti nelle aziende di riferimento \n\nPer maggiori dettagli fai clic qui
URL:https://www.confindustria.an.it/evento/rappresentante-dei-lavoratori-per-la-sicurezza-rls-corso-base-32-ore-32/
LOCATION:Confindustria Ancona\, Via Ing. Roberto Bianchi snc\, Ancona\, 60131\, Italia
CATEGORIES:Formazione
END:VEVENT
BEGIN:VEVENT
DTSTART;TZID=Europe/Rome:20240528T100000
DTEND;TZID=Europe/Rome:20240528T120000
DTSTAMP:20260423T125505
CREATED:20240520T083955Z
LAST-MODIFIED:20240520T085149Z
UID:35936-1716890400-1716897600@www.confindustria.an.it
SUMMARY:“La riforma fiscale quale strumento per la crescita. Prospettive e sviluppi”
DESCRIPTION:Per conto del Comandante Regionale della Guardia di Finanza\, Gen. Barbera\, estendiamo l’invito ricevuto per l’evento “La riforma fiscale quale strumento per la crescita. Prospettive e sviluppi” che si terrà il prossimo 28 maggio (inizio accreditamento alle ore 9.30) al Teatro delle Muse di Ancona. \nPer partecipare confermare la presenza entro il 22 maggio \n			\n						Registrazione\n					\n			\n						Scarica il programma
URL:https://www.confindustria.an.it/evento/la-riforma-fiscale-quale-strumento-per-la-crescita-prospettive-e-sviluppi/
LOCATION:Teatro delle Muse\, Piazza della Repubblica\, Ancona
CATEGORIES:Incontro
END:VEVENT
BEGIN:VEVENT
DTSTART;TZID=Europe/Rome:20240528T090000
DTEND;TZID=Europe/Rome:20240528T130000
DTSTAMP:20260423T125505
CREATED:20230919T154405Z
LAST-MODIFIED:20230919T154405Z
UID:27713-1716886800-1716901200@www.confindustria.an.it
SUMMARY:Responsabile delle questioni doganali ai fini AEO |   III edizione
DESCRIPTION:MODULO 3 – Accertamento doganale: contradditorio e contenzioso (25 ore) \n\nPer tutti i dettagli del corso clicca qui
URL:https://www.confindustria.an.it/evento/responsabile-delle-questioni-doganali-ai-fini-aeo-iii-edizione-28/
LOCATION:Online
CATEGORIES:Formazione
ATTACH;FMTTYPE=image/jpeg:https://www.confindustria.an.it/wp-content/uploads/2023/09/aeo_immagineBase_1140.jpg
END:VEVENT
BEGIN:VEVENT
DTSTART;TZID=Europe/Rome:20240527T143000
DTEND;TZID=Europe/Rome:20240527T183000
DTSTAMP:20260423T125505
CREATED:20240206T102309Z
LAST-MODIFIED:20240206T102309Z
UID:32273-1716820200-1716834600@www.confindustria.an.it
SUMMARY:Responsabile/Addetto al Servizio di prevenzione e protezione dai rischi Edizione maggio 2024
DESCRIPTION:Per maggiori informazioni e iscrizione clicca qui
URL:https://www.confindustria.an.it/evento/responsabile-addetto-al-servizio-di-prevenzione-e-protezione-dai-rischi-edizione-maggio-2024-3/
LOCATION:Confindustria Ancona\, Via Ing. Roberto Bianchi snc\, Ancona\, 60131\, Italia
CATEGORIES:Formazione
END:VEVENT
BEGIN:VEVENT
DTSTART;TZID=Europe/Rome:20240523T150000
DTEND;TZID=Europe/Rome:20240523T183000
DTSTAMP:20260423T125505
CREATED:20240229T085621Z
LAST-MODIFIED:20240415T102906Z
UID:32958-1716476400-1716489000@www.confindustria.an.it
SUMMARY:LA RIFORMA  FISCALE 2024 | Le novità per imprese e dipendenti nei rapporti con l’estero
DESCRIPTION:
URL:https://www.confindustria.an.it/evento/la-riforma-fiscale-2024-le-novita-per-imprese-e-dipendenti-nei-rapporti-con-lestero/
LOCATION:Confindustria Ancona\, Via Ing. Roberto Bianchi snc\, Ancona\, 60131\, Italia
CATEGORIES:Incontro
END:VEVENT
BEGIN:VEVENT
DTSTART;TZID=Europe/Rome:20240523T143000
DTEND;TZID=Europe/Rome:20240523T183000
DTSTAMP:20260423T125505
CREATED:20240228T074937Z
LAST-MODIFIED:20240228T074937Z
UID:32896-1716474600-1716489000@www.confindustria.an.it
SUMMARY:Rappresentante dei Lavoratori per la Sicurezza (RLS) | Aggiornamento Annuale 2ª EDIZIONE 2024
DESCRIPTION:SO.GE.S.I. srl organizza la prima edizione 2023 del corso obbligatorio di aggiornamento annuale per Rappresentante dei Lavoratori per la Sicurezza\, previsto dall’art. 37\, comma 11\, del Decreto Legislativo 9 aprile 2008\, n. 81 e s.m.i. Il corso prevede aggiornamenti di natura tecnico-organizzativa e normativi. \n\nPDF programma completo\n\n\nISCRIZIONE\n \nDESTINATARI \nRappresentanti dei Lavoratori per la Sicurezza (che abbiano già frequentato il corso base). \nATTESTATO \nAl termine del corso\, a seguito della frequenza del monte ore previsto e del superamento della verifica finale\, sarà rilasciato attestato valido ai fini di legge.
URL:https://www.confindustria.an.it/evento/rappresentante-dei-lavoratori-per-la-sicurezza-rls-aggiornamento-annuale-2a-edizione-2024/
LOCATION:Confindustria Ancona\, Via Ing. Roberto Bianchi snc\, Ancona\, 60131\, Italia
CATEGORIES:Formazione
END:VEVENT
BEGIN:VEVENT
DTSTART;TZID=Europe/Rome:20240523T090000
DTEND;TZID=Europe/Rome:20240523T140000
DTSTAMP:20260423T125505
CREATED:20230919T154339Z
LAST-MODIFIED:20230919T154339Z
UID:27711-1716454800-1716472800@www.confindustria.an.it
SUMMARY:Responsabile delle questioni doganali ai fini AEO |   III edizione
DESCRIPTION:MODULO 3 – Accertamento doganale: contradditorio e contenzioso (25 ore) \n\nPer tutti i dettagli del corso clicca qui
URL:https://www.confindustria.an.it/evento/responsabile-delle-questioni-doganali-ai-fini-aeo-iii-edizione-27/
LOCATION:Online
CATEGORIES:Formazione
ATTACH;FMTTYPE=image/jpeg:https://www.confindustria.an.it/wp-content/uploads/2023/09/aeo_immagineBase_1140.jpg
END:VEVENT
END:VCALENDAR