BEGIN:VCALENDAR
VERSION:2.0
PRODID:-//Confindustria Ancona - ECPv6.15.12.2//NONSGML v1.0//EN
CALSCALE:GREGORIAN
METHOD:PUBLISH
X-WR-CALNAME:Confindustria Ancona
X-ORIGINAL-URL:https://www.confindustria.an.it
X-WR-CALDESC:Eventi per Confindustria Ancona
REFRESH-INTERVAL;VALUE=DURATION:PT1H
X-Robots-Tag:noindex
X-PUBLISHED-TTL:PT1H
BEGIN:VTIMEZONE
TZID:Europe/Rome
BEGIN:DAYLIGHT
TZOFFSETFROM:+0100
TZOFFSETTO:+0200
TZNAME:CEST
DTSTART:20220327T010000
END:DAYLIGHT
BEGIN:STANDARD
TZOFFSETFROM:+0200
TZOFFSETTO:+0100
TZNAME:CET
DTSTART:20221030T010000
END:STANDARD
BEGIN:DAYLIGHT
TZOFFSETFROM:+0100
TZOFFSETTO:+0200
TZNAME:CEST
DTSTART:20230326T010000
END:DAYLIGHT
BEGIN:STANDARD
TZOFFSETFROM:+0200
TZOFFSETTO:+0100
TZNAME:CET
DTSTART:20231029T010000
END:STANDARD
BEGIN:DAYLIGHT
TZOFFSETFROM:+0100
TZOFFSETTO:+0200
TZNAME:CEST
DTSTART:20240331T010000
END:DAYLIGHT
BEGIN:STANDARD
TZOFFSETFROM:+0200
TZOFFSETTO:+0100
TZNAME:CET
DTSTART:20241027T010000
END:STANDARD
BEGIN:DAYLIGHT
TZOFFSETFROM:+0100
TZOFFSETTO:+0200
TZNAME:CEST
DTSTART:20250330T010000
END:DAYLIGHT
BEGIN:STANDARD
TZOFFSETFROM:+0200
TZOFFSETTO:+0100
TZNAME:CET
DTSTART:20251026T010000
END:STANDARD
END:VTIMEZONE
BEGIN:VEVENT
DTSTART;TZID=Europe/Rome:20240207T100000
DTEND;TZID=Europe/Rome:20240207T120000
DTSTAMP:20260424T011501
CREATED:20240129T115348Z
LAST-MODIFIED:20240129T115409Z
UID:31836-1707300000-1707307200@www.confindustria.an.it
SUMMARY:Gruppo Merceologico Complementi per l’Edilizia e Attività Estrattive
DESCRIPTION:La Giornata Nazionale delle Piccole e Medie Imprese: una grande occasione per far conoscere alle nuove generazioni il valore e il potenziale delle aziende del nostro territorio.								\n				\n					\n		\n					\n		\n				\n						\n					\n			\n						\n				\n									\n					\n						\n									Maggiori informazioni
URL:https://www.confindustria.an.it/evento/gruppo-merceologico-complementi-per-ledilizia-e-attivita-estrattive-2/
LOCATION:Confindustria Ancona\, Via Ing. Roberto Bianchi snc\, Ancona\, 60131\, Italia
CATEGORIES:Incontro riservato
END:VEVENT
BEGIN:VEVENT
DTSTART;TZID=Europe/Rome:20240206T100000
DTEND;TZID=Europe/Rome:20240206T123000
DTSTAMP:20260424T011501
CREATED:20240123T110544Z
LAST-MODIFIED:20240123T114245Z
UID:31619-1707213600-1707222600@www.confindustria.an.it
SUMMARY:Legge di Bilancio 2024: le principali misure fiscali per le imprese
DESCRIPTION:La Giornata Nazionale delle Piccole e Medie Imprese: una grande occasione per far conoscere alle nuove generazioni il valore e il potenziale delle aziende del nostro territorio.								\n				\n					\n		\n					\n		\n				\n						\n					\n			\n						\n				\n									\n					\n						\n									Maggiori informazioni
URL:https://www.confindustria.an.it/evento/legge-di-bilancio-2024-le-principali-misure-fiscali-per-le-imprese/
LOCATION:Online
CATEGORIES:Webinar
END:VEVENT
BEGIN:VEVENT
DTSTART;TZID=Europe/Rome:20240201T090000
DTEND;TZID=Europe/Rome:20240201T120000
DTSTAMP:20260424T011501
CREATED:20230919T144456Z
LAST-MODIFIED:20230919T145556Z
UID:27624-1706778000-1706788800@www.confindustria.an.it
SUMMARY:Responsabile delle questioni doganali ai fini AEO |   III edizione
DESCRIPTION:La Giornata Nazionale delle Piccole e Medie Imprese: una grande occasione per far conoscere alle nuove generazioni il valore e il potenziale delle aziende del nostro territorio.								\n				\n					\n		\n					\n		\n				\n						\n					\n			\n						\n				\n									\n					\n						\n									Maggiori informazioni
URL:https://www.confindustria.an.it/evento/responsabile-delle-questioni-doganali-ai-fini-aeo-iii-edizione-6/
LOCATION:Online
CATEGORIES:Formazione
ATTACH;FMTTYPE=image/jpeg:https://www.confindustria.an.it/wp-content/uploads/2023/09/aeo_immagineBase_1140.jpg
END:VEVENT
BEGIN:VEVENT
DTSTART;TZID=Europe/Rome:20240131T093000
DTEND;TZID=Europe/Rome:20240131T123000
DTSTAMP:20260424T011501
CREATED:20231212T114953Z
LAST-MODIFIED:20240109T133652Z
UID:30741-1706693400-1706704200@www.confindustria.an.it
SUMMARY:Il rapporto con la Banca
DESCRIPTION:La Giornata Nazionale delle Piccole e Medie Imprese: una grande occasione per far conoscere alle nuove generazioni il valore e il potenziale delle aziende del nostro territorio.								\n				\n					\n		\n					\n		\n				\n						\n					\n			\n						\n				\n									\n					\n						\n									Maggiori informazioni
URL:https://www.confindustria.an.it/evento/il-rapporto-con-la-banca/
LOCATION:Confindustria Ancona\, Via Ing. Roberto Bianchi snc\, Ancona\, 60131\, Italia
CATEGORIES:Incontro
ATTACH;FMTTYPE=image/jpeg:https://www.confindustria.an.it/wp-content/uploads/2023/12/card-tematiche_1140.jpg
END:VEVENT
BEGIN:VEVENT
DTSTART;TZID=Europe/Rome:20240130T170000
DTEND;TZID=Europe/Rome:20240130T183000
DTSTAMP:20260424T011501
CREATED:20240118T095022Z
LAST-MODIFIED:20240118T095022Z
UID:31465-1706634000-1706639400@www.confindustria.an.it
SUMMARY:Riunione congiunta Consiglio di Presidenza\, Consiglio Direttivo
DESCRIPTION:La Giornata Nazionale delle Piccole e Medie Imprese: una grande occasione per far conoscere alle nuove generazioni il valore e il potenziale delle aziende del nostro territorio.								\n				\n					\n		\n					\n		\n				\n						\n					\n			\n						\n				\n									\n					\n						\n									Maggiori informazioni
URL:https://www.confindustria.an.it/evento/riunione-congiunta-consiglio-di-presidenza-consiglio-direttivo-2/
LOCATION:Confindustria Ancona\, Via Ing. Roberto Bianchi snc\, Ancona\, 60131\, Italia
CATEGORIES:Incontro riservato
END:VEVENT
BEGIN:VEVENT
DTSTART;TZID=Europe/Rome:20240130T090000
DTEND;TZID=Europe/Rome:20240130T130000
DTSTAMP:20260424T011501
CREATED:20230919T144423Z
LAST-MODIFIED:20230919T145527Z
UID:27622-1706605200-1706619600@www.confindustria.an.it
SUMMARY:Responsabile delle questioni doganali ai fini AEO |   III edizione
DESCRIPTION:La Giornata Nazionale delle Piccole e Medie Imprese: una grande occasione per far conoscere alle nuove generazioni il valore e il potenziale delle aziende del nostro territorio.								\n				\n					\n		\n					\n		\n				\n						\n					\n			\n						\n				\n									\n					\n						\n									Maggiori informazioni
URL:https://www.confindustria.an.it/evento/responsabile-delle-questioni-doganali-ai-fini-aeo-iii-edizione-5/
LOCATION:Online
CATEGORIES:Formazione
ATTACH;FMTTYPE=image/jpeg:https://www.confindustria.an.it/wp-content/uploads/2023/09/aeo_immagineBase_1140.jpg
END:VEVENT
BEGIN:VEVENT
DTSTART;TZID=Europe/Rome:20240125T170000
DTEND;TZID=Europe/Rome:20240125T193000
DTSTAMP:20260424T011501
CREATED:20240109T132855Z
LAST-MODIFIED:20240109T132855Z
UID:31120-1706202000-1706211000@www.confindustria.an.it
SUMMARY:Consiglio Direttivo Giovani Imprenditori
DESCRIPTION:La Giornata Nazionale delle Piccole e Medie Imprese: una grande occasione per far conoscere alle nuove generazioni il valore e il potenziale delle aziende del nostro territorio.								\n				\n					\n		\n					\n		\n				\n						\n					\n			\n						\n				\n									\n					\n						\n									Maggiori informazioni
URL:https://www.confindustria.an.it/evento/consiglio-direttivo-giovani-imprenditori-2/
LOCATION:Casa Vinicola Garofoli Spa\, Via Carlo Marx\, 123\, Castelfidardo\, AN\, 60022
CATEGORIES:Giovani Imprenditori,Incontro riservato
END:VEVENT
BEGIN:VEVENT
DTSTART;TZID=Europe/Rome:20240125T090000
DTEND;TZID=Europe/Rome:20240125T130000
DTSTAMP:20260424T011501
CREATED:20230919T144348Z
LAST-MODIFIED:20230919T145500Z
UID:27620-1706173200-1706187600@www.confindustria.an.it
SUMMARY:Responsabile delle questioni doganali ai fini AEO |   III edizione
DESCRIPTION:La Giornata Nazionale delle Piccole e Medie Imprese: una grande occasione per far conoscere alle nuove generazioni il valore e il potenziale delle aziende del nostro territorio.								\n				\n					\n		\n					\n		\n				\n						\n					\n			\n						\n				\n									\n					\n						\n									Maggiori informazioni
URL:https://www.confindustria.an.it/evento/responsabile-delle-questioni-doganali-ai-fini-aeo-iii-edizione-4/
LOCATION:Online
CATEGORIES:Formazione
ATTACH;FMTTYPE=image/jpeg:https://www.confindustria.an.it/wp-content/uploads/2023/09/aeo_immagineBase_1140.jpg
END:VEVENT
BEGIN:VEVENT
DTSTART;TZID=Europe/Rome:20240118T090000
DTEND;TZID=Europe/Rome:20240118T120000
DTSTAMP:20260424T011501
CREATED:20230919T144316Z
LAST-MODIFIED:20230919T145431Z
UID:27618-1705568400-1705579200@www.confindustria.an.it
SUMMARY:Responsabile delle questioni doganali ai fini AEO |   III edizione
DESCRIPTION:La Giornata Nazionale delle Piccole e Medie Imprese: una grande occasione per far conoscere alle nuove generazioni il valore e il potenziale delle aziende del nostro territorio.								\n				\n					\n		\n					\n		\n				\n						\n					\n			\n						\n				\n									\n					\n						\n									Maggiori informazioni
URL:https://www.confindustria.an.it/evento/responsabile-delle-questioni-doganali-ai-fini-aeo-iii-edizione-3/
LOCATION:Online
CATEGORIES:Formazione
ATTACH;FMTTYPE=image/jpeg:https://www.confindustria.an.it/wp-content/uploads/2023/09/aeo_immagineBase_1140.jpg
END:VEVENT
BEGIN:VEVENT
DTSTART;TZID=Europe/Rome:20240116T090000
DTEND;TZID=Europe/Rome:20240116T130000
DTSTAMP:20260424T011501
CREATED:20230919T144243Z
LAST-MODIFIED:20230919T145405Z
UID:27616-1705395600-1705410000@www.confindustria.an.it
SUMMARY:Responsabile delle questioni doganali ai fini AEO |   III edizione
DESCRIPTION:La Giornata Nazionale delle Piccole e Medie Imprese: una grande occasione per far conoscere alle nuove generazioni il valore e il potenziale delle aziende del nostro territorio.								\n				\n					\n		\n					\n		\n				\n						\n					\n			\n						\n				\n									\n					\n						\n									Maggiori informazioni
URL:https://www.confindustria.an.it/evento/responsabile-delle-questioni-doganali-ai-fini-aeo-iii-edizione-2/
LOCATION:Online
CATEGORIES:Formazione
ATTACH;FMTTYPE=image/jpeg:https://www.confindustria.an.it/wp-content/uploads/2023/09/aeo_immagineBase_1140.jpg
END:VEVENT
BEGIN:VEVENT
DTSTART;TZID=Europe/Rome:20240111T090000
DTEND;TZID=Europe/Rome:20240111T130000
DTSTAMP:20260424T011501
CREATED:20230919T144115Z
LAST-MODIFIED:20230919T145339Z
UID:27614-1704963600-1704978000@www.confindustria.an.it
SUMMARY:Responsabile delle questioni doganali ai fini AEO |   III edizione
DESCRIPTION:La Giornata Nazionale delle Piccole e Medie Imprese: una grande occasione per far conoscere alle nuove generazioni il valore e il potenziale delle aziende del nostro territorio.								\n				\n					\n		\n					\n		\n				\n						\n					\n			\n						\n				\n									\n					\n						\n									Maggiori informazioni
URL:https://www.confindustria.an.it/evento/responsabile-delle-questioni-doganali-ai-fini-aeo-iii-edizione/
LOCATION:Online
CATEGORIES:Formazione
ATTACH;FMTTYPE=image/jpeg:https://www.confindustria.an.it/wp-content/uploads/2023/09/aeo_immagineBase_1140.jpg
END:VEVENT
BEGIN:VEVENT
DTSTART;TZID=Europe/Rome:20231219T170000
DTEND;TZID=Europe/Rome:20231219T190000
DTSTAMP:20260424T011501
CREATED:20231207T163830Z
LAST-MODIFIED:20231207T170043Z
UID:30647-1703005200-1703012400@www.confindustria.an.it
SUMMARY:Riunione congiunta Consiglio di Presidenza\, Consiglio Direttivo e Consiglio Generale
DESCRIPTION:La Giornata Nazionale delle Piccole e Medie Imprese: una grande occasione per far conoscere alle nuove generazioni il valore e il potenziale delle aziende del nostro territorio.								\n				\n					\n		\n					\n		\n				\n						\n					\n			\n						\n				\n									\n					\n						\n									Maggiori informazioni
URL:https://www.confindustria.an.it/evento/riunione-congiunta-consiglio-di-presidenza-e-consiglio-generale-dic/
LOCATION:Confindustria Ancona\, Via Ing. Roberto Bianchi snc\, Ancona\, 60131\, Italia
CATEGORIES:Incontro riservato
END:VEVENT
BEGIN:VEVENT
DTSTART;TZID=Europe/Rome:20231219T150000
DTEND;TZID=Europe/Rome:20231219T170000
DTSTAMP:20260424T011501
CREATED:20231205T090958Z
LAST-MODIFIED:20231205T090958Z
UID:30235-1702998000-1703005200@www.confindustria.an.it
SUMMARY:Le ultime novità in tema di gestione rifiuti e le ricadute in azienda del nuovo sistema di tracciabilità RENTRI.
DESCRIPTION:La Giornata Nazionale delle Piccole e Medie Imprese: una grande occasione per far conoscere alle nuove generazioni il valore e il potenziale delle aziende del nostro territorio.								\n				\n					\n		\n					\n		\n				\n						\n					\n			\n						\n				\n									\n					\n						\n									Maggiori informazioni
URL:https://www.confindustria.an.it/evento/le-ultime-novita-in-tema-di-gestione-rifiuti-e-le-ricadute-in-azienda-del-nuovo-sistema-di-tracciabilita-rentri/
CATEGORIES:Incontro
END:VEVENT
BEGIN:VEVENT
DTSTART;TZID=Europe/Rome:20231215T100000
DTEND;TZID=Europe/Rome:20231215T120000
DTSTAMP:20260424T011501
CREATED:20231205T090910Z
LAST-MODIFIED:20231205T090910Z
UID:30233-1702634400-1702641600@www.confindustria.an.it
SUMMARY:Rifiuti in ADR. Obblighi per le aziende e gli operatori sul trasporto dei rifiuti e delle merci pericolose. Ruolo e compiti del consulente ADR\, le sanzioni per la mancata nomina e le nuove condizioni di esenzione
DESCRIPTION:La Giornata Nazionale delle Piccole e Medie Imprese: una grande occasione per far conoscere alle nuove generazioni il valore e il potenziale delle aziende del nostro territorio.								\n				\n					\n		\n					\n		\n				\n						\n					\n			\n						\n				\n									\n					\n						\n									Maggiori informazioni
URL:https://www.confindustria.an.it/evento/rifiuti-in-adr-obblighi-per-le-aziende-e-gli-operatori-sul-trasporto-dei-rifiuti-e-delle-merci-pericolose-ruolo-e-compiti-del-consulente-adr-le-sanzioni-per-la-mancata-nomina-e-le-nuove-condizioni/
END:VEVENT
BEGIN:VEVENT
DTSTART;TZID=Europe/Rome:20231213T143000
DTEND;TZID=Europe/Rome:20231213T183000
DTSTAMP:20260424T011501
CREATED:20231205T085453Z
LAST-MODIFIED:20231205T091905Z
UID:30218-1702477800-1702492200@www.confindustria.an.it
SUMMARY:LA RIFORMA DEL SISTEMA TRIBUTARIO
DESCRIPTION:La Giornata Nazionale delle Piccole e Medie Imprese: una grande occasione per far conoscere alle nuove generazioni il valore e il potenziale delle aziende del nostro territorio.								\n				\n					\n		\n					\n		\n				\n						\n					\n			\n						\n				\n									\n					\n						\n									Maggiori informazioni
URL:https://www.confindustria.an.it/evento/la-riforma-del-sistema-tributario/
LOCATION:Confindustria Ancona\, Via Ing. Roberto Bianchi snc\, Ancona\, 60131\, Italia
CATEGORIES:Incontro
END:VEVENT
BEGIN:VEVENT
DTSTART;TZID=Europe/Rome:20231213T133000
DTEND;TZID=Europe/Rome:20231213T183000
DTSTAMP:20260424T011501
CREATED:20231211T072013Z
LAST-MODIFIED:20231211T072013Z
UID:30653-1702474200-1702492200@www.confindustria.an.it
SUMMARY:Comitato Piccola Industria
DESCRIPTION:La Giornata Nazionale delle Piccole e Medie Imprese: una grande occasione per far conoscere alle nuove generazioni il valore e il potenziale delle aziende del nostro territorio.								\n				\n					\n		\n					\n		\n				\n						\n					\n			\n						\n				\n									\n					\n						\n									Maggiori informazioni
URL:https://www.confindustria.an.it/evento/comitato-piccola-industria-5/
LOCATION:Online
CATEGORIES:Incontro riservato,Piccola Industria
END:VEVENT
BEGIN:VEVENT
DTSTART;TZID=Europe/Rome:20231212T150000
DTEND;TZID=Europe/Rome:20231212T170000
DTSTAMP:20260424T011501
CREATED:20231205T090818Z
LAST-MODIFIED:20231205T091110Z
UID:30231-1702393200-1702400400@www.confindustria.an.it
SUMMARY:Tassa rifiuti. Le superfici imponibili e quelle escluse\, le esenzioni e le riduzioni per i rifiuti urbani avviati al recupero con operatori privati
DESCRIPTION:La Giornata Nazionale delle Piccole e Medie Imprese: una grande occasione per far conoscere alle nuove generazioni il valore e il potenziale delle aziende del nostro territorio.								\n				\n					\n		\n					\n		\n				\n						\n					\n			\n						\n				\n									\n					\n						\n									Maggiori informazioni
URL:https://www.confindustria.an.it/evento/tassa-rifiuti-le-superfici-imponibili-e-quelle-escluse-le-esenzioni-e-le-riduzioni-per-i-rifiuti-urbani-avviati-al-recupero-con-operatori-privati/
CATEGORIES:Incontro
END:VEVENT
BEGIN:VEVENT
DTSTART;TZID=Europe/Rome:20231206T140000
DTEND;TZID=Europe/Rome:20231206T190000
DTSTAMP:20260424T011501
CREATED:20231128T075454Z
LAST-MODIFIED:20231128T101751Z
UID:29915-1701871200-1701889200@www.confindustria.an.it
SUMMARY:Le macchine\, dalla Direttiva al Regolamento (UE) 2023/1230
DESCRIPTION:La Giornata Nazionale delle Piccole e Medie Imprese: una grande occasione per far conoscere alle nuove generazioni il valore e il potenziale delle aziende del nostro territorio.								\n				\n					\n		\n					\n		\n				\n						\n					\n			\n						\n				\n									\n					\n						\n									Maggiori informazioni
URL:https://www.confindustria.an.it/evento/le-macchine-dalla-direttiva-al-regolamento-ue-2023-1230/
LOCATION:Confindustria Ancona\, Via Ing. Roberto Bianchi snc\, Ancona\, 60131\, Italia
END:VEVENT
BEGIN:VEVENT
DTSTART;TZID=Europe/Rome:20231205T150000
DTEND;TZID=Europe/Rome:20231205T170000
DTSTAMP:20260424T011501
CREATED:20231205T090726Z
LAST-MODIFIED:20231205T091037Z
UID:30229-1701788400-1701795600@www.confindustria.an.it
SUMMARY:Classificazione dei rifiuti. Come classificare i rifiuti e come attribuirgli il codice adeguato.
DESCRIPTION:La Giornata Nazionale delle Piccole e Medie Imprese: una grande occasione per far conoscere alle nuove generazioni il valore e il potenziale delle aziende del nostro territorio.								\n				\n					\n		\n					\n		\n				\n						\n					\n			\n						\n				\n									\n					\n						\n									Maggiori informazioni
URL:https://www.confindustria.an.it/evento/classificazione-dei-rifiuti-come-classificare-i-rifiuti-e-come-attribuirgli-il-codice-adeguato/
CATEGORIES:Incontro
END:VEVENT
BEGIN:VEVENT
DTSTART;TZID=Europe/Rome:20231202T180000
DTEND;TZID=Europe/Rome:20231202T223000
DTSTAMP:20260424T011501
CREATED:20231107T100949Z
LAST-MODIFIED:20231129T080349Z
UID:29218-1701540000-1701556200@www.confindustria.an.it
SUMMARY:le radici del futuro
DESCRIPTION:La Giornata Nazionale delle Piccole e Medie Imprese: una grande occasione per far conoscere alle nuove generazioni il valore e il potenziale delle aziende del nostro territorio.								\n				\n					\n		\n					\n		\n				\n						\n					\n			\n						\n				\n									\n					\n						\n									Maggiori informazioni
URL:https://www.confindustria.an.it/evento/le-radici-del-futuro/
LOCATION:Confindustria Ancona\, Via Ing. Roberto Bianchi snc\, Ancona\, 60131\, Italia
CATEGORIES:Incontro associativo,Incontro riservato
END:VEVENT
BEGIN:VEVENT
DTSTART;TZID=Europe/Rome:20231201T090000
DTEND;TZID=Europe/Rome:20231201T180000
DTSTAMP:20260424T011501
CREATED:20230914T143919Z
LAST-MODIFIED:20230914T143919Z
UID:27506-1701421200-1701453600@www.confindustria.an.it
SUMMARY:Corso Avanzato di Controllo di Gestione
DESCRIPTION:La Giornata Nazionale delle Piccole e Medie Imprese: una grande occasione per far conoscere alle nuove generazioni il valore e il potenziale delle aziende del nostro territorio.								\n				\n					\n		\n					\n		\n				\n						\n					\n			\n						\n				\n									\n					\n						\n									Maggiori informazioni
URL:https://www.confindustria.an.it/evento/corso-avanzato-di-controllo-di-gestione-5/
LOCATION:Confindustria Ancona\, Via Ing. Roberto Bianchi snc\, Ancona\, 60131\, Italia
CATEGORIES:Formazione
ATTACH;FMTTYPE=image/jpeg:https://www.confindustria.an.it/wp-content/uploads/2022/07/Controller_1140.jpg
END:VEVENT
BEGIN:VEVENT
DTSTART;TZID=Europe/Rome:20231201T083000
DTEND;TZID=Europe/Rome:20231201T183000
DTSTAMP:20260424T011501
CREATED:20231102T144447Z
LAST-MODIFIED:20231128T151230Z
UID:29117-1701419400-1701455400@www.confindustria.an.it
SUMMARY:LABDAY | Orientare al futuro
DESCRIPTION:La Giornata Nazionale delle Piccole e Medie Imprese: una grande occasione per far conoscere alle nuove generazioni il valore e il potenziale delle aziende del nostro territorio.								\n				\n					\n		\n					\n		\n				\n						\n					\n			\n						\n				\n									\n					\n						\n									Maggiori informazioni
URL:https://www.confindustria.an.it/evento/labday/
LOCATION:Confindustria Ancona\, Via Ing. Roberto Bianchi snc\, Ancona\, 60131\, Italia
CATEGORIES:Giovani Imprenditori,Incontro
END:VEVENT
BEGIN:VEVENT
DTSTART;TZID=Europe/Rome:20231130T093000
DTEND;TZID=Europe/Rome:20231130T130000
DTSTAMP:20260424T011501
CREATED:20231120T134754Z
LAST-MODIFIED:20231120T135010Z
UID:29713-1701336600-1701349200@www.confindustria.an.it
SUMMARY:SPAGNA: incontri individuali online con il consulente di mercato
DESCRIPTION:La Giornata Nazionale delle Piccole e Medie Imprese: una grande occasione per far conoscere alle nuove generazioni il valore e il potenziale delle aziende del nostro territorio.								\n				\n					\n		\n					\n		\n				\n						\n					\n			\n						\n				\n									\n					\n						\n									Maggiori informazioni
URL:https://www.confindustria.an.it/evento/spagna-incontri-individuali-online-con-il-consulente-di-mercato/
CATEGORIES:Incontro
ATTACH;FMTTYPE=image/jpeg:https://www.confindustria.an.it/wp-content/uploads/2023/11/bandiere-della-spagna_1140.jpg
END:VEVENT
BEGIN:VEVENT
DTSTART;TZID=Europe/Rome:20231129T143000
DTEND;TZID=Europe/Rome:20231129T183000
DTSTAMP:20260424T011501
CREATED:20230802T092051Z
LAST-MODIFIED:20230802T092051Z
UID:26819-1701268200-1701282600@www.confindustria.an.it
SUMMARY:Responsabile e Addetto al Servizio di Prevenzione e Protezione dai Rischi – RSPP/ASPP Corso di aggiornamento
DESCRIPTION:La Giornata Nazionale delle Piccole e Medie Imprese: una grande occasione per far conoscere alle nuove generazioni il valore e il potenziale delle aziende del nostro territorio.								\n				\n					\n		\n					\n		\n				\n						\n					\n			\n						\n				\n									\n					\n						\n									Maggiori informazioni
URL:https://www.confindustria.an.it/evento/responsabile-e-addetto-al-servizio-di-prevenzione-e-protezione-dai-rischi-rspp-aspp-corso-di-aggiornamento-3/
LOCATION:Confindustria Ancona\, Via Ing. Roberto Bianchi snc\, Ancona\, 60131\, Italia
END:VEVENT
BEGIN:VEVENT
DTSTART;TZID=Europe/Rome:20231124T090000
DTEND;TZID=Europe/Rome:20231124T180000
DTSTAMP:20260424T011501
CREATED:20230914T143613Z
LAST-MODIFIED:20230914T143613Z
UID:27501-1700816400-1700848800@www.confindustria.an.it
SUMMARY:Corso Avanzato di Controllo di Gestione
DESCRIPTION:La Giornata Nazionale delle Piccole e Medie Imprese: una grande occasione per far conoscere alle nuove generazioni il valore e il potenziale delle aziende del nostro territorio.								\n				\n					\n		\n					\n		\n				\n						\n					\n			\n						\n				\n									\n					\n						\n									Maggiori informazioni
URL:https://www.confindustria.an.it/evento/corso-avanzato-di-controllo-di-gestione-4/
LOCATION:Confindustria Ancona\, Via Ing. Roberto Bianchi snc\, Ancona\, 60131\, Italia
CATEGORIES:Formazione
ATTACH;FMTTYPE=image/jpeg:https://www.confindustria.an.it/wp-content/uploads/2022/07/Controller_1140.jpg
END:VEVENT
BEGIN:VEVENT
DTSTART;TZID=Europe/Rome:20231123T143000
DTEND;TZID=Europe/Rome:20231123T180000
DTSTAMP:20260424T011501
CREATED:20231024T091131Z
LAST-MODIFIED:20231117T085143Z
UID:28896-1700749800-1700762400@www.confindustria.an.it
SUMMARY:Workshop gratuiti | Focus sul Cliente:  gestisci le relazioni  con le Soluzioni CRM
DESCRIPTION:La Giornata Nazionale delle Piccole e Medie Imprese: una grande occasione per far conoscere alle nuove generazioni il valore e il potenziale delle aziende del nostro territorio.								\n				\n					\n		\n					\n		\n				\n						\n					\n			\n						\n				\n									\n					\n						\n									Maggiori informazioni
URL:https://www.confindustria.an.it/evento/workshop-gratuiti-trasforma-i-dati-in-informazioni-esplora-microsoft-power-bi-per-la-business-intelligence/
LOCATION:Confindustria Ancona\, Via Ing. Roberto Bianchi snc\, Ancona\, 60131\, Italia
CATEGORIES:Formazione
ATTACH;FMTTYPE=image/jpeg:https://www.confindustria.an.it/wp-content/uploads/2023/10/Analista_1140.jpg
END:VEVENT
BEGIN:VEVENT
DTSTART;TZID=Europe/Rome:20231122T183000
DTEND;TZID=Europe/Rome:20231122T210000
DTSTAMP:20260424T011501
CREATED:20231120T102458Z
LAST-MODIFIED:20231123T084452Z
UID:29704-1700677800-1700686800@www.confindustria.an.it
SUMMARY:Il verdicchio incontra le eccellenze
DESCRIPTION:La Giornata Nazionale delle Piccole e Medie Imprese: una grande occasione per far conoscere alle nuove generazioni il valore e il potenziale delle aziende del nostro territorio.								\n				\n					\n		\n					\n		\n				\n						\n					\n			\n						\n				\n									\n					\n						\n									Maggiori informazioni
URL:https://www.confindustria.an.it/evento/il-verdicchio-incontra-le-eccellenze/
LOCATION:Ristorante Cavallo Pazzo\, Via Lamberto Corsi\, 19\, Fabriano\, Italia
CATEGORIES:Incontro riservato
END:VEVENT
BEGIN:VEVENT
DTSTART;TZID=Europe/Rome:20231122T180000
DTEND;TZID=Europe/Rome:20231122T200000
DTSTAMP:20260424T011501
CREATED:20231107T093322Z
LAST-MODIFIED:20231123T093010Z
UID:29197-1700676000-1700683200@www.confindustria.an.it
SUMMARY:Giovani Imprenditori
DESCRIPTION:La Giornata Nazionale delle Piccole e Medie Imprese: una grande occasione per far conoscere alle nuove generazioni il valore e il potenziale delle aziende del nostro territorio.								\n				\n					\n		\n					\n		\n				\n						\n					\n			\n						\n				\n									\n					\n						\n									Maggiori informazioni
URL:https://www.confindustria.an.it/evento/giovani-imprenditori/
LOCATION:Confindustria Ancona\, Via Ing. Roberto Bianchi snc\, Ancona\, 60131\, Italia
CATEGORIES:Giovani Imprenditori,Incontro riservato
END:VEVENT
BEGIN:VEVENT
DTSTART;TZID=Europe/Rome:20231122T143000
DTEND;TZID=Europe/Rome:20231122T183000
DTSTAMP:20260424T011501
CREATED:20230802T092021Z
LAST-MODIFIED:20230802T092021Z
UID:26817-1700663400-1700677800@www.confindustria.an.it
SUMMARY:Responsabile e Addetto al Servizio di Prevenzione e Protezione dai Rischi – RSPP/ASPP Corso di aggiornamento
DESCRIPTION:La Giornata Nazionale delle Piccole e Medie Imprese: una grande occasione per far conoscere alle nuove generazioni il valore e il potenziale delle aziende del nostro territorio.								\n				\n					\n		\n					\n		\n				\n						\n					\n			\n						\n				\n									\n					\n						\n									Maggiori informazioni
URL:https://www.confindustria.an.it/evento/responsabile-e-addetto-al-servizio-di-prevenzione-e-protezione-dai-rischi-rspp-aspp-corso-di-aggiornamento-2/
LOCATION:Confindustria Ancona\, Via Ing. Roberto Bianchi snc\, Ancona\, 60131\, Italia
END:VEVENT
BEGIN:VEVENT
DTSTART;TZID=Europe/Rome:20231121T170000
DTEND;TZID=Europe/Rome:20231121T183000
DTSTAMP:20260424T011501
CREATED:20231120T103115Z
LAST-MODIFIED:20231120T103156Z
UID:29708-1700586000-1700591400@www.confindustria.an.it
SUMMARY:Gruppo Merceologico Servizi alle Imprese ed Invitati
DESCRIPTION:La Giornata Nazionale delle Piccole e Medie Imprese: una grande occasione per far conoscere alle nuove generazioni il valore e il potenziale delle aziende del nostro territorio.								\n				\n					\n		\n					\n		\n				\n						\n					\n			\n						\n				\n									\n					\n						\n									Maggiori informazioni
URL:https://www.confindustria.an.it/evento/gruppo-merceologico-servizi-alle-imprese-ed-invitati/
LOCATION:Confindustria Ancona\, Via Ing. Roberto Bianchi snc\, Ancona\, 60131\, Italia
CATEGORIES:Incontro riservato
END:VEVENT
END:VCALENDAR