BEGIN:VCALENDAR
VERSION:2.0
PRODID:-//Confindustria Ancona - ECPv6.15.12.2//NONSGML v1.0//EN
CALSCALE:GREGORIAN
METHOD:PUBLISH
X-ORIGINAL-URL:https://www.confindustria.an.it
X-WR-CALDESC:Eventi per Confindustria Ancona
REFRESH-INTERVAL;VALUE=DURATION:PT1H
X-Robots-Tag:noindex
X-PUBLISHED-TTL:PT1H
BEGIN:VTIMEZONE
TZID:Europe/Rome
BEGIN:DAYLIGHT
TZOFFSETFROM:+0100
TZOFFSETTO:+0200
TZNAME:CEST
DTSTART:20220327T010000
END:DAYLIGHT
BEGIN:STANDARD
TZOFFSETFROM:+0200
TZOFFSETTO:+0100
TZNAME:CET
DTSTART:20221030T010000
END:STANDARD
BEGIN:DAYLIGHT
TZOFFSETFROM:+0100
TZOFFSETTO:+0200
TZNAME:CEST
DTSTART:20230326T010000
END:DAYLIGHT
BEGIN:STANDARD
TZOFFSETFROM:+0200
TZOFFSETTO:+0100
TZNAME:CET
DTSTART:20231029T010000
END:STANDARD
BEGIN:DAYLIGHT
TZOFFSETFROM:+0100
TZOFFSETTO:+0200
TZNAME:CEST
DTSTART:20240331T010000
END:DAYLIGHT
BEGIN:STANDARD
TZOFFSETFROM:+0200
TZOFFSETTO:+0100
TZNAME:CET
DTSTART:20241027T010000
END:STANDARD
END:VTIMEZONE
BEGIN:VEVENT
DTSTART;TZID=Europe/Rome:20230613T101500
DTEND;TZID=Europe/Rome:20230613T140000
DTSTAMP:20260424T142646
CREATED:20230508T071111Z
LAST-MODIFIED:20230511T074323Z
UID:22603-1686651300-1686664800@www.confindustria.an.it
SUMMARY:I Giovani Imprenditori incontrano il Cav. Lav. Alberto Rossi
DESCRIPTION:Clicca qui per maggiori informazioni \n					\n					\n				\n								\n				\n					\n		\n					\n		\n				\n						\n					\n			\n						\n				\n									o contatta Federico GiuliodoriTel. 071 29048260 | email f.giuliodori@confindustria.an.it
URL:https://www.confindustria.an.it/evento/i-giovani-imprenditori-incontrano-il-cav-lav-alberto-rossi/
CATEGORIES:Giovani Imprenditori
ATTACH;FMTTYPE=image/png:https://www.confindustria.an.it/wp-content/uploads/2022/08/ConfindAnGruppoGiovani_1rigaBandieraeCentrato-01.png
END:VEVENT
BEGIN:VEVENT
DTSTART;TZID=Europe/Rome:20230609T100000
DTEND;TZID=Europe/Rome:20230609T120000
DTSTAMP:20260424T142646
CREATED:20230531T063039Z
LAST-MODIFIED:20230531T063039Z
UID:23400-1686304800-1686312000@www.confindustria.an.it
SUMMARY:CONAI prosegue il Roadshow 2023 al fianco delle Confindustrie territoriali
DESCRIPTION:Clicca qui per maggiori informazioni \n					\n					\n				\n								\n				\n					\n		\n					\n		\n				\n						\n					\n			\n						\n				\n									o contatta Federico GiuliodoriTel. 071 29048260 | email f.giuliodori@confindustria.an.it
URL:https://www.confindustria.an.it/evento/conai-prosegue-il-roadshow-2023-al-fianco-delle-confindustrie-territoriali/
CATEGORIES:Webinar
ATTACH;FMTTYPE=image/jpeg:https://www.confindustria.an.it/wp-content/uploads/2023/03/CONAI_2023.jpg
END:VEVENT
BEGIN:VEVENT
DTSTART;TZID=Europe/Rome:20230608T143000
DTEND;TZID=Europe/Rome:20230608T183000
DTSTAMP:20260424T142646
CREATED:20230320T120254Z
LAST-MODIFIED:20230320T120320Z
UID:20798-1686234600-1686249000@www.confindustria.an.it
SUMMARY:Minimaster  SOSTENIBILITÀ PER LE PMI | modulo 6
DESCRIPTION:Clicca qui per maggiori informazioni \n					\n					\n				\n								\n				\n					\n		\n					\n		\n				\n						\n					\n			\n						\n				\n									o contatta Federico GiuliodoriTel. 071 29048260 | email f.giuliodori@confindustria.an.it
URL:https://www.confindustria.an.it/evento/minimaster-sostenibilita-per-le-pmi-modulo-6/
LOCATION:Confindustria Ancona\, Via Ing. Roberto Bianchi snc\, Ancona\, 60131\, Italia
CATEGORIES:Formazione
ATTACH;FMTTYPE=image/jpeg:https://www.confindustria.an.it/wp-content/uploads/2023/03/Sostenibilita_1140.jpg
END:VEVENT
BEGIN:VEVENT
DTSTART;TZID=Europe/Rome:20230607T103000
DTEND;TZID=Europe/Rome:20230607T113000
DTSTAMP:20260424T142646
CREATED:20230524T081547Z
LAST-MODIFIED:20230524T081547Z
UID:23306-1686133800-1686137400@www.confindustria.an.it
SUMMARY:Webinar I BENI IN POLIETILENE: DAL PRODOTTO AL RIFIUTO AGGIORNAMENTO NORMATIVO
DESCRIPTION:Clicca qui per maggiori informazioni \n					\n					\n				\n								\n				\n					\n		\n					\n		\n				\n						\n					\n			\n						\n				\n									o contatta Federico GiuliodoriTel. 071 29048260 | email f.giuliodori@confindustria.an.it
URL:https://www.confindustria.an.it/evento/webinar-i-beni-in-polietilene-dal-prodotto-al-rifiuto-aggiornamento-normativo/
LOCATION:Online
CATEGORIES:Webinar
END:VEVENT
BEGIN:VEVENT
DTSTART;TZID=Europe/Rome:20230607T090000
DTEND;TZID=Europe/Rome:20230607T130000
DTSTAMP:20260424T142646
CREATED:20230404T091339Z
LAST-MODIFIED:20230404T091339Z
UID:21466-1686128400-1686142800@www.confindustria.an.it
SUMMARY:Product Management | La gestione dei processi di sviluppo di nuovi prodotti
DESCRIPTION:Clicca qui per maggiori informazioni \n					\n					\n				\n								\n				\n					\n		\n					\n		\n				\n						\n					\n			\n						\n				\n									o contatta Federico GiuliodoriTel. 071 29048260 | email f.giuliodori@confindustria.an.it
URL:https://www.confindustria.an.it/evento/product-management-la-gestione-dei-processi-di-sviluppo-di-nuovi-prodotti-6/
LOCATION:Online
CATEGORIES:Formazione
ATTACH;FMTTYPE=image/jpeg:https://www.confindustria.an.it/wp-content/uploads/2023/03/product-management.jpg
END:VEVENT
BEGIN:VEVENT
DTSTART;TZID=Europe/Rome:20230606T150000
DTEND;TZID=Europe/Rome:20230606T180000
DTSTAMP:20260424T142646
CREATED:20230523T100705Z
LAST-MODIFIED:20230601T064045Z
UID:23236-1686063600-1686074400@www.confindustria.an.it
SUMMARY:RetImpresa Lab: nuovo modello di collaborazione tra imprese
DESCRIPTION:Clicca qui per maggiori informazioni \n					\n					\n				\n								\n				\n					\n		\n					\n		\n				\n						\n					\n			\n						\n				\n									o contatta Federico GiuliodoriTel. 071 29048260 | email f.giuliodori@confindustria.an.it
URL:https://www.confindustria.an.it/evento/retimpresa-lab-nuovo-modello-di-collaborazione-tra-imprese/
LOCATION:Confindustria Ancona\, Via Ing. Roberto Bianchi snc\, Ancona\, 60131\, Italia
CATEGORIES:Incontro associativo
ATTACH;FMTTYPE=image/jpeg:https://www.confindustria.an.it/wp-content/uploads/2023/05/RetImpresa-Lab_1140_515.jpg
END:VEVENT
BEGIN:VEVENT
DTSTART;TZID=Europe/Rome:20230531T143000
DTEND;TZID=Europe/Rome:20230531T183000
DTSTAMP:20260424T142646
CREATED:20230120T093931Z
LAST-MODIFIED:20230120T093931Z
UID:18635-1685543400-1685557800@www.confindustria.an.it
SUMMARY:Responsabile/Addetto al Servizio di prevenzione e protezione dai rischi Edizione maggio 2023
DESCRIPTION:Clicca qui per maggiori informazioni \n					\n					\n				\n								\n				\n					\n		\n					\n		\n				\n						\n					\n			\n						\n				\n									o contatta Federico GiuliodoriTel. 071 29048260 | email f.giuliodori@confindustria.an.it
URL:https://www.confindustria.an.it/evento/responsabile-addetto-al-servizio-di-prevenzione-e-protezione-dai-rischi-edizione-maggio-2023-3/
LOCATION:Confindustria Ancona\, Via Ing. Roberto Bianchi snc\, Ancona\, 60131\, Italia
CATEGORIES:Formazione
END:VEVENT
BEGIN:VEVENT
DTSTART;TZID=Europe/Rome:20230531T090000
DTEND;TZID=Europe/Rome:20230531T130000
DTSTAMP:20260424T142646
CREATED:20230404T091306Z
LAST-MODIFIED:20230404T091306Z
UID:21464-1685523600-1685538000@www.confindustria.an.it
SUMMARY:Product Management | La gestione dei processi di sviluppo di nuovi prodotti
DESCRIPTION:Clicca qui per maggiori informazioni \n					\n					\n				\n								\n				\n					\n		\n					\n		\n				\n						\n					\n			\n						\n				\n									o contatta Federico GiuliodoriTel. 071 29048260 | email f.giuliodori@confindustria.an.it
URL:https://www.confindustria.an.it/evento/product-management-la-gestione-dei-processi-di-sviluppo-di-nuovi-prodotti-5/
LOCATION:Online
CATEGORIES:Formazione
ATTACH;FMTTYPE=image/jpeg:https://www.confindustria.an.it/wp-content/uploads/2023/03/product-management.jpg
END:VEVENT
BEGIN:VEVENT
DTSTART;TZID=Europe/Rome:20230530T203000
DTEND;TZID=Europe/Rome:20230530T223000
DTSTAMP:20260424T142646
CREATED:20230525T084500Z
LAST-MODIFIED:20230525T084500Z
UID:23363-1685478600-1685485800@www.confindustria.an.it
SUMMARY:Sapore d’Impresa
DESCRIPTION:Clicca qui per maggiori informazioni \n					\n					\n				\n								\n				\n					\n		\n					\n		\n				\n						\n					\n			\n						\n				\n									o contatta Federico GiuliodoriTel. 071 29048260 | email f.giuliodori@confindustria.an.it
URL:https://www.confindustria.an.it/evento/sapore-dimpresa/
LOCATION:Osteria Forno Ercole\, Piazza Nova n. 8\, Jesi\, Italia
CATEGORIES:Incontro
ATTACH;FMTTYPE=image/jpeg:https://www.confindustria.an.it/wp-content/uploads/2023/05/SaporedImpresa_ImmagineWeb.jpg
END:VEVENT
BEGIN:VEVENT
DTSTART;TZID=Europe/Rome:20230529T143000
DTEND;TZID=Europe/Rome:20230529T183000
DTSTAMP:20260424T142646
CREATED:20230417T122052Z
LAST-MODIFIED:20230417T122052Z
UID:21984-1685370600-1685385000@www.confindustria.an.it
SUMMARY:Rappresentante dei Lavoratori per la Sicurezza (RLS) Aggiornamento Annuale 2ª EDIZIONE 2023
DESCRIPTION:Clicca qui per maggiori informazioni \n					\n					\n				\n								\n				\n					\n		\n					\n		\n				\n						\n					\n			\n						\n				\n									o contatta Federico GiuliodoriTel. 071 29048260 | email f.giuliodori@confindustria.an.it
URL:https://www.confindustria.an.it/evento/rappresentante-dei-lavoratori-per-la-sicurezza-rls-aggiornamento-annuale-2a-edizione-2023-2/
LOCATION:Confindustria Ancona\, Via Ing. Roberto Bianchi snc\, Ancona\, 60131\, Italia
CATEGORIES:Formazione
END:VEVENT
BEGIN:VEVENT
DTSTART;TZID=Europe/Rome:20230524T170000
DTEND;TZID=Europe/Rome:20230524T190000
DTSTAMP:20260424T142646
CREATED:20230511T065923Z
LAST-MODIFIED:20230511T071711Z
UID:22782-1684947600-1684954800@www.confindustria.an.it
SUMMARY:l valore del welfare sanitario per Aziende e Dirigenti.  Dalle tutele Fasi al Prodotto Unico Fasi-Assidai
DESCRIPTION:Clicca qui per maggiori informazioni \n					\n					\n				\n								\n				\n					\n		\n					\n		\n				\n						\n					\n			\n						\n				\n									o contatta Federico GiuliodoriTel. 071 29048260 | email f.giuliodori@confindustria.an.it
URL:https://www.confindustria.an.it/evento/l-valore-del-welfare-sanitario-per-aziende-e-dirigenti-dalle-tutele-fasi-al-prodotto-unico-fasi-assidai/
LOCATION:Confindustria Ancona\, Via Ing. Roberto Bianchi snc\, Ancona\, 60131\, Italia
CATEGORIES:Incontro
ATTACH;FMTTYPE=image/jpeg:https://www.confindustria.an.it/wp-content/uploads/2023/05/ConvegnoFasi.jpg
END:VEVENT
BEGIN:VEVENT
DTSTART;TZID=Europe/Rome:20230524T143000
DTEND;TZID=Europe/Rome:20230524T183000
DTSTAMP:20260424T142646
CREATED:20230120T093911Z
LAST-MODIFIED:20230120T093911Z
UID:18633-1684938600-1684953000@www.confindustria.an.it
SUMMARY:Responsabile/Addetto al Servizio di prevenzione e protezione dai rischi Edizione maggio 2023
DESCRIPTION:Clicca qui per maggiori informazioni \n					\n					\n				\n								\n				\n					\n		\n					\n		\n				\n						\n					\n			\n						\n				\n									o contatta Federico GiuliodoriTel. 071 29048260 | email f.giuliodori@confindustria.an.it
URL:https://www.confindustria.an.it/evento/responsabile-addetto-al-servizio-di-prevenzione-e-protezione-dai-rischi-edizione-maggio-2023-2/
LOCATION:Confindustria Ancona\, Via Ing. Roberto Bianchi snc\, Ancona\, 60131\, Italia
CATEGORIES:Formazione
END:VEVENT
BEGIN:VEVENT
DTSTART;TZID=Europe/Rome:20230524T090000
DTEND;TZID=Europe/Rome:20230524T130000
DTSTAMP:20260424T142646
CREATED:20230404T091241Z
LAST-MODIFIED:20230404T091241Z
UID:21462-1684918800-1684933200@www.confindustria.an.it
SUMMARY:Product Management | La gestione dei processi di sviluppo di nuovi prodotti
DESCRIPTION:Clicca qui per maggiori informazioni \n					\n					\n				\n								\n				\n					\n		\n					\n		\n				\n						\n					\n			\n						\n				\n									o contatta Federico GiuliodoriTel. 071 29048260 | email f.giuliodori@confindustria.an.it
URL:https://www.confindustria.an.it/evento/product-management-la-gestione-dei-processi-di-sviluppo-di-nuovi-prodotti-4/
LOCATION:Online
CATEGORIES:Formazione
ATTACH;FMTTYPE=image/jpeg:https://www.confindustria.an.it/wp-content/uploads/2023/03/product-management.jpg
END:VEVENT
BEGIN:VEVENT
DTSTART;TZID=Europe/Rome:20230523T090000
DTEND;TZID=Europe/Rome:20230523T130000
DTSTAMP:20260424T142646
CREATED:20230404T091212Z
LAST-MODIFIED:20230404T091212Z
UID:21460-1684832400-1684846800@www.confindustria.an.it
SUMMARY:Product Management | La gestione dei processi di sviluppo di nuovi prodotti
DESCRIPTION:Clicca qui per maggiori informazioni \n					\n					\n				\n								\n				\n					\n		\n					\n		\n				\n						\n					\n			\n						\n				\n									o contatta Federico GiuliodoriTel. 071 29048260 | email f.giuliodori@confindustria.an.it
URL:https://www.confindustria.an.it/evento/product-management-la-gestione-dei-processi-di-sviluppo-di-nuovi-prodotti-3/
LOCATION:Online
CATEGORIES:Formazione
ATTACH;FMTTYPE=image/jpeg:https://www.confindustria.an.it/wp-content/uploads/2023/03/product-management.jpg
END:VEVENT
BEGIN:VEVENT
DTSTART;TZID=Europe/Rome:20230522T143000
DTEND;TZID=Europe/Rome:20230522T183000
DTSTAMP:20260424T142646
CREATED:20230417T121927Z
LAST-MODIFIED:20230417T121927Z
UID:21981-1684765800-1684780200@www.confindustria.an.it
SUMMARY:Rappresentante dei Lavoratori per la Sicurezza (RLS) Aggiornamento Annuale 2ª EDIZIONE 2023
DESCRIPTION:Clicca qui per maggiori informazioni \n					\n					\n				\n								\n				\n					\n		\n					\n		\n				\n						\n					\n			\n						\n				\n									o contatta Federico GiuliodoriTel. 071 29048260 | email f.giuliodori@confindustria.an.it
URL:https://www.confindustria.an.it/evento/rappresentante-dei-lavoratori-per-la-sicurezza-rls-aggiornamento-annuale-2a-edizione-2023/
LOCATION:Confindustria Ancona\, Via Ing. Roberto Bianchi snc\, Ancona\, 60131\, Italia
CATEGORIES:Formazione
END:VEVENT
BEGIN:VEVENT
DTSTART;TZID=Europe/Rome:20230519T173000
DTEND;TZID=Europe/Rome:20230519T190000
DTSTAMP:20260424T142646
CREATED:20230511T090900Z
LAST-MODIFIED:20230511T091645Z
UID:22841-1684517400-1684522800@www.confindustria.an.it
SUMMARY:Riunione congiunta Consiglio di Presidenza e Consiglio Generale
DESCRIPTION:Clicca qui per maggiori informazioni \n					\n					\n				\n								\n				\n					\n		\n					\n		\n				\n						\n					\n			\n						\n				\n									o contatta Federico GiuliodoriTel. 071 29048260 | email f.giuliodori@confindustria.an.it
URL:https://www.confindustria.an.it/evento/riunione-congiunta-consiglio-di-presidenza-e-consiglio-generale/
LOCATION:Confindustria Ancona\, Via Ing. Roberto Bianchi snc\, Ancona\, 60131\, Italia
CATEGORIES:Incontro riservato
END:VEVENT
BEGIN:VEVENT
DTSTART;TZID=Europe/Rome:20230518T143000
DTEND;TZID=Europe/Rome:20230518T183000
DTSTAMP:20260424T142646
CREATED:20230320T120141Z
LAST-MODIFIED:20230320T120215Z
UID:20793-1684420200-1684434600@www.confindustria.an.it
SUMMARY:Minimaster  SOSTENIBILITÀ PER LE PMI | modulo 5
DESCRIPTION:Clicca qui per maggiori informazioni \n					\n					\n				\n								\n				\n					\n		\n					\n		\n				\n						\n					\n			\n						\n				\n									o contatta Federico GiuliodoriTel. 071 29048260 | email f.giuliodori@confindustria.an.it
URL:https://www.confindustria.an.it/evento/minimaster-sostenibilita-per-le-pmi-modulo-5/
LOCATION:Confindustria Ancona\, Via Ing. Roberto Bianchi snc\, Ancona\, 60131\, Italia
CATEGORIES:Formazione
ATTACH;FMTTYPE=image/jpeg:https://www.confindustria.an.it/wp-content/uploads/2023/03/Sostenibilita_1140.jpg
END:VEVENT
BEGIN:VEVENT
DTSTART;TZID=Europe/Rome:20230517T143000
DTEND;TZID=Europe/Rome:20230517T183000
DTSTAMP:20260424T142646
CREATED:20230120T093817Z
LAST-MODIFIED:20230120T093849Z
UID:18631-1684333800-1684348200@www.confindustria.an.it
SUMMARY:Responsabile/Addetto al Servizio di prevenzione e protezione dai rischi Edizione maggio 2023
DESCRIPTION:Clicca qui per maggiori informazioni \n					\n					\n				\n								\n				\n					\n		\n					\n		\n				\n						\n					\n			\n						\n				\n									o contatta Federico GiuliodoriTel. 071 29048260 | email f.giuliodori@confindustria.an.it
URL:https://www.confindustria.an.it/evento/responsabile-addetto-al-servizio-di-prevenzione-e-protezione-dai-rischi-edizione-maggio-2023/
LOCATION:Confindustria Ancona\, Via Ing. Roberto Bianchi snc\, Ancona\, 60131\, Italia
CATEGORIES:Formazione
END:VEVENT
BEGIN:VEVENT
DTSTART;TZID=Europe/Rome:20230517T090000
DTEND;TZID=Europe/Rome:20230517T130000
DTSTAMP:20260424T142646
CREATED:20230512T114829Z
LAST-MODIFIED:20230512T115012Z
UID:22906-1684314000-1684328400@www.confindustria.an.it
SUMMARY:Edi4Marche | Il nuovo polo europeo di innovazione digitale  per le imprese delle Marche
DESCRIPTION:Clicca qui per maggiori informazioni \n					\n					\n				\n								\n				\n					\n		\n					\n		\n				\n						\n					\n			\n						\n				\n									o contatta Federico GiuliodoriTel. 071 29048260 | email f.giuliodori@confindustria.an.it
URL:https://www.confindustria.an.it/evento/edi4marche-il-nuovo-polo-europeo-di-innovazione-digitale-per-le-imprese-delle-marche/
LOCATION:Loggia dei Mercanti\, Via della Loggia n. 34\, Ancona (AN)\, Italia
CATEGORIES:Incontro
ATTACH;FMTTYPE=image/jpeg:https://www.confindustria.an.it/wp-content/uploads/2023/05/DICH4_Marche_Intestazione.jpg
END:VEVENT
BEGIN:VEVENT
DTSTART;TZID=Europe/Rome:20230515T160000
DTEND;TZID=Europe/Rome:20230515T180000
DTSTAMP:20260424T142646
CREATED:20230502T071027Z
LAST-MODIFIED:20230502T071918Z
UID:22435-1684166400-1684173600@www.confindustria.an.it
SUMMARY:Trend emergenti nella filiera dell’automotive
DESCRIPTION:Clicca qui per maggiori informazioni \n					\n					\n				\n								\n				\n					\n		\n					\n		\n				\n						\n					\n			\n						\n				\n									o contatta Federico GiuliodoriTel. 071 29048260 | email f.giuliodori@confindustria.an.it
URL:https://www.confindustria.an.it/evento/trend-emergenti-nella-filiera-dellautomotive/
LOCATION:Confindustria Ancona\, Via Ing. Roberto Bianchi snc\, Ancona\, 60131\, Italia
CATEGORIES:Incontro riservato
END:VEVENT
BEGIN:VEVENT
DTSTART;TZID=Europe/Rome:20230515T090000
DTEND;TZID=Europe/Rome:20230515T130000
DTSTAMP:20260424T142646
CREATED:20230404T091132Z
LAST-MODIFIED:20230404T091132Z
UID:21458-1684141200-1684155600@www.confindustria.an.it
SUMMARY:Product Management | La gestione dei processi di sviluppo di nuovi prodotti
DESCRIPTION:Clicca qui per maggiori informazioni \n					\n					\n				\n								\n				\n					\n		\n					\n		\n				\n						\n					\n			\n						\n				\n									o contatta Federico GiuliodoriTel. 071 29048260 | email f.giuliodori@confindustria.an.it
URL:https://www.confindustria.an.it/evento/product-management-la-gestione-dei-processi-di-sviluppo-di-nuovi-prodotti-2/
LOCATION:Online
CATEGORIES:Formazione
ATTACH;FMTTYPE=image/jpeg:https://www.confindustria.an.it/wp-content/uploads/2023/03/product-management.jpg
END:VEVENT
BEGIN:VEVENT
DTSTART;TZID=Europe/Rome:20230511T170000
DTEND;TZID=Europe/Rome:20230511T183000
DTSTAMP:20260424T142646
CREATED:20230505T063321Z
LAST-MODIFIED:20230505T063741Z
UID:22565-1683824400-1683829800@www.confindustria.an.it
SUMMARY:Webinar in materia di lavoro
DESCRIPTION:Clicca qui per maggiori informazioni \n					\n					\n				\n								\n				\n					\n		\n					\n		\n				\n						\n					\n			\n						\n				\n									o contatta Federico GiuliodoriTel. 071 29048260 | email f.giuliodori@confindustria.an.it
URL:https://www.confindustria.an.it/evento/webinar-in-materia-di-lavoro/
LOCATION:Online
CATEGORIES:Webinar
ATTACH;FMTTYPE=image/jpeg:https://www.confindustria.an.it/wp-content/uploads/2023/05/Webinar_1140.jpg
END:VEVENT
BEGIN:VEVENT
DTSTART;TZID=Europe/Rome:20230511T143000
DTEND;TZID=Europe/Rome:20230511T183000
DTSTAMP:20260424T142646
CREATED:20230320T120027Z
LAST-MODIFIED:20230320T120104Z
UID:20788-1683815400-1683829800@www.confindustria.an.it
SUMMARY:Minimaster  SOSTENIBILITÀ PER LE PMI | modulo 4
DESCRIPTION:Clicca qui per maggiori informazioni \n					\n					\n				\n								\n				\n					\n		\n					\n		\n				\n						\n					\n			\n						\n				\n									o contatta Federico GiuliodoriTel. 071 29048260 | email f.giuliodori@confindustria.an.it
URL:https://www.confindustria.an.it/evento/minimaster-sostenibilita-per-le-pmi-modulo-4/
LOCATION:Confindustria Ancona\, Via Ing. Roberto Bianchi snc\, Ancona\, 60131\, Italia
CATEGORIES:Formazione
ATTACH;FMTTYPE=image/jpeg:https://www.confindustria.an.it/wp-content/uploads/2023/03/Sostenibilita_1140.jpg
END:VEVENT
BEGIN:VEVENT
DTSTART;TZID=Europe/Rome:20230509T150000
DTEND;TZID=Europe/Rome:20230509T200000
DTSTAMP:20260424T142646
CREATED:20230411T152712Z
LAST-MODIFIED:20230509T104724Z
UID:21851-1683644400-1683662400@www.confindustria.an.it
SUMMARY:Diretta streaming dalle 15: "La nuova linea ferroviaria adriatica  e l’alta velocità:  volano per lo sviluppo economico"
DESCRIPTION:Clicca qui per maggiori informazioni \n					\n					\n				\n								\n				\n					\n		\n					\n		\n				\n						\n					\n			\n						\n				\n									o contatta Federico GiuliodoriTel. 071 29048260 | email f.giuliodori@confindustria.an.it
URL:https://www.confindustria.an.it/evento/la-nuova-linea-ferroviaria-adriatica-e-lalta-velocita-volano-per-lo-sviluppo-economico/
LOCATION:Loggia dei Mercanti\, Via della Loggia n. 34\, Ancona (AN)\, Italia
CATEGORIES:Incontro
ATTACH;FMTTYPE=image/jpeg:https://www.confindustria.an.it/wp-content/uploads/2023/04/Save-the-date9maggio_Ancona.jpg
END:VEVENT
BEGIN:VEVENT
DTSTART;TZID=Europe/Rome:20230508T173000
DTEND;TZID=Europe/Rome:20230508T183000
DTSTAMP:20260424T142646
CREATED:20230502T071527Z
LAST-MODIFIED:20230502T071802Z
UID:22437-1683567000-1683570600@www.confindustria.an.it
SUMMARY:Intelligenza Artificiale
DESCRIPTION:Clicca qui per maggiori informazioni \n					\n					\n				\n								\n				\n					\n		\n					\n		\n				\n						\n					\n			\n						\n				\n									o contatta Federico GiuliodoriTel. 071 29048260 | email f.giuliodori@confindustria.an.it
URL:https://www.confindustria.an.it/evento/riunione-comprensorio-fabrianese/
LOCATION:Istituto Tecnico Superiore Fabriano\, Via Bruno Buozzi\, 46/G\, Fabriano\, 60044\, Italia
CATEGORIES:Incontro riservato
END:VEVENT
BEGIN:VEVENT
DTSTART;TZID=Europe/Rome:20230508T090000
DTEND;TZID=Europe/Rome:20230508T130000
DTSTAMP:20260424T142646
CREATED:20230404T091005Z
LAST-MODIFIED:20230404T091015Z
UID:21450-1683536400-1683550800@www.confindustria.an.it
SUMMARY:Product Management | La gestione dei processi di sviluppo di nuovi prodotti
DESCRIPTION:Clicca qui per maggiori informazioni \n					\n					\n				\n								\n				\n					\n		\n					\n		\n				\n						\n					\n			\n						\n				\n									o contatta Federico GiuliodoriTel. 071 29048260 | email f.giuliodori@confindustria.an.it
URL:https://www.confindustria.an.it/evento/product-management-la-gestione-dei-processi-di-sviluppo-di-nuovi-prodotti/
LOCATION:Online
CATEGORIES:Formazione
ATTACH;FMTTYPE=image/jpeg:https://www.confindustria.an.it/wp-content/uploads/2023/03/product-management.jpg
END:VEVENT
BEGIN:VEVENT
DTSTART;TZID=Europe/Rome:20230428T173000
DTEND;TZID=Europe/Rome:20230428T183000
DTSTAMP:20260424T142646
CREATED:20230420T101719Z
LAST-MODIFIED:20230420T101719Z
UID:22076-1682703000-1682706600@www.confindustria.an.it
SUMMARY:Comitato Piccola Industria di Confindustria Ancona
DESCRIPTION:Clicca qui per maggiori informazioni \n					\n					\n				\n								\n				\n					\n		\n					\n		\n				\n						\n					\n			\n						\n				\n									o contatta Federico GiuliodoriTel. 071 29048260 | email f.giuliodori@confindustria.an.it
URL:https://www.confindustria.an.it/evento/comitato-piccola-industria-di-confindustria-ancona/
LOCATION:Confindustria Ancona\, Via Ing. Roberto Bianchi snc\, Ancona\, 60131\, Italia
CATEGORIES:Incontro riservato
END:VEVENT
BEGIN:VEVENT
DTSTART;TZID=Europe/Rome:20230427T143000
DTEND;TZID=Europe/Rome:20230427T183000
DTSTAMP:20260424T142646
CREATED:20230320T115850Z
LAST-MODIFIED:20230320T115939Z
UID:20783-1682605800-1682620200@www.confindustria.an.it
SUMMARY:Minimaster  SOSTENIBILITÀ PER LE PMI | modulo 3
DESCRIPTION:Clicca qui per maggiori informazioni \n					\n					\n				\n								\n				\n					\n		\n					\n		\n				\n						\n					\n			\n						\n				\n									o contatta Federico GiuliodoriTel. 071 29048260 | email f.giuliodori@confindustria.an.it
URL:https://www.confindustria.an.it/evento/minimaster-sostenibilita-per-le-pmi-modulo-3/
LOCATION:Confindustria Ancona\, Via Ing. Roberto Bianchi snc\, Ancona\, 60131\, Italia
CATEGORIES:Formazione
ATTACH;FMTTYPE=image/jpeg:https://www.confindustria.an.it/wp-content/uploads/2023/03/Sostenibilita_1140.jpg
END:VEVENT
BEGIN:VEVENT
DTSTART;TZID=Europe/Rome:20230427T110000
DTEND;TZID=Europe/Rome:20230427T123000
DTSTAMP:20260424T142646
CREATED:20230417T122824Z
LAST-MODIFIED:20230417T123030Z
UID:21986-1682593200-1682598600@www.confindustria.an.it
SUMMARY:Comprensorio Anconetano
DESCRIPTION:Clicca qui per maggiori informazioni \n					\n					\n				\n								\n				\n					\n		\n					\n		\n				\n						\n					\n			\n						\n				\n									o contatta Federico GiuliodoriTel. 071 29048260 | email f.giuliodori@confindustria.an.it
URL:https://www.confindustria.an.it/evento/comprensorio-anconetano-2/
LOCATION:Centro Pergoli\, Piazza Giuseppe Mazzini\, 2\, Falconara Marittima\, Italia
CATEGORIES:Incontro riservato
ATTACH;FMTTYPE=image/png:https://www.confindustria.an.it/wp-content/uploads/2022/03/Ancona_250.png
END:VEVENT
BEGIN:VEVENT
DTSTART;TZID=Europe/Rome:20230426T180000
DTEND;TZID=Europe/Rome:20230426T193000
DTSTAMP:20260424T142646
CREATED:20230419T081623Z
LAST-MODIFIED:20230419T081652Z
UID:22032-1682532000-1682537400@www.confindustria.an.it
SUMMARY:Riunione Comprensorio Aspio e Musone -  Conero Future Campus
DESCRIPTION:Clicca qui per maggiori informazioni \n					\n					\n				\n								\n				\n					\n		\n					\n		\n				\n						\n					\n			\n						\n				\n									o contatta Federico GiuliodoriTel. 071 29048260 | email f.giuliodori@confindustria.an.it
URL:https://www.confindustria.an.it/evento/riunione-comprensorio-aspio-e-musone-conero-future-campus/
LOCATION:Gens Camuria\, Via Direttissima del Conero n. 4\, Camerano
CATEGORIES:Incontro riservato
END:VEVENT
END:VCALENDAR