BEGIN:VCALENDAR
VERSION:2.0
PRODID:-//Confindustria Ancona - ECPv6.15.12.2//NONSGML v1.0//EN
CALSCALE:GREGORIAN
METHOD:PUBLISH
X-WR-CALNAME:Confindustria Ancona
X-ORIGINAL-URL:https://www.confindustria.an.it
X-WR-CALDESC:Eventi per Confindustria Ancona
REFRESH-INTERVAL;VALUE=DURATION:PT1H
X-Robots-Tag:noindex
X-PUBLISHED-TTL:PT1H
BEGIN:VTIMEZONE
TZID:Europe/Rome
BEGIN:DAYLIGHT
TZOFFSETFROM:+0100
TZOFFSETTO:+0200
TZNAME:CEST
DTSTART:20220327T010000
END:DAYLIGHT
BEGIN:STANDARD
TZOFFSETFROM:+0200
TZOFFSETTO:+0100
TZNAME:CET
DTSTART:20221030T010000
END:STANDARD
BEGIN:DAYLIGHT
TZOFFSETFROM:+0100
TZOFFSETTO:+0200
TZNAME:CEST
DTSTART:20230326T010000
END:DAYLIGHT
BEGIN:STANDARD
TZOFFSETFROM:+0200
TZOFFSETTO:+0100
TZNAME:CET
DTSTART:20231029T010000
END:STANDARD
BEGIN:DAYLIGHT
TZOFFSETFROM:+0100
TZOFFSETTO:+0200
TZNAME:CEST
DTSTART:20240331T010000
END:DAYLIGHT
BEGIN:STANDARD
TZOFFSETFROM:+0200
TZOFFSETTO:+0100
TZNAME:CET
DTSTART:20241027T010000
END:STANDARD
END:VTIMEZONE
BEGIN:VEVENT
DTSTART;TZID=Europe/Rome:20230403T160000
DTEND;TZID=Europe/Rome:20230403T180000
DTSTAMP:20260424T201150
CREATED:20230317T105456Z
LAST-MODIFIED:20230317T110004Z
UID:20704-1680537600-1680544800@www.confindustria.an.it
SUMMARY:Transizione ecologica  delle aziende nel reporting:  Tra opportunità e obbligo
DESCRIPTION:Clicca qui per maggiori dettagli
URL:https://www.confindustria.an.it/evento/transizione-ecologica-delle-aziende-nel-reporting-tra-opportunita-e-obbligo/
LOCATION:Confindustria Ancona\, Via Ing. Roberto Bianchi snc\, Ancona\, 60131\, Italia
CATEGORIES:Incontro
ATTACH;FMTTYPE=image/jpeg:https://www.confindustria.an.it/wp-content/uploads/2023/03/EventoDeloitte_1140-scaled.jpg
END:VEVENT
BEGIN:VEVENT
DTSTART;TZID=Europe/Rome:20230331T100000
DTEND;TZID=Europe/Rome:20230331T120000
DTSTAMP:20260424T201150
CREATED:20230322T115453Z
LAST-MODIFIED:20230323T080207Z
UID:21003-1680256800-1680264000@www.confindustria.an.it
SUMMARY:Roadshow CONAI
DESCRIPTION:Clicca qui per maggiori dettagli
URL:https://www.confindustria.an.it/evento/roadshow-conai/
LOCATION:Online
CATEGORIES:Webinar
ATTACH;FMTTYPE=image/jpeg:https://www.confindustria.an.it/wp-content/uploads/2023/03/CONAI_2023.jpg
END:VEVENT
BEGIN:VEVENT
DTSTART;TZID=Europe/Rome:20230330T090000
DTEND;TZID=Europe/Rome:20230330T140000
DTSTAMP:20260424T201150
CREATED:20220429T074443Z
LAST-MODIFIED:20220429T074547Z
UID:7338-1680166800-1680184800@www.confindustria.an.it
SUMMARY:Responsabile delle questioni doganali ai fini AEO II edizione | ACCERTAMENTO COMPETENZE
DESCRIPTION:Clicca qui per maggiori dettagli
URL:https://www.confindustria.an.it/evento/responsabile-delle-questioni-doganali-ai-fini-aeo-ii-edizione-modulo-5-50-ore-11/
LOCATION:Online
CATEGORIES:Formazione
ATTACH;FMTTYPE=image/png:https://www.confindustria.an.it/wp-content/uploads/2022/04/AEO_Tavola-disegno-1.png
END:VEVENT
BEGIN:VEVENT
DTSTART;TZID=Europe/Rome:20230329T150000
DTEND;TZID=Europe/Rome:20230329T180000
DTSTAMP:20260424T201150
CREATED:20230309T074659Z
LAST-MODIFIED:20230309T080232Z
UID:20416-1680102000-1680112800@www.confindustria.an.it
SUMMARY:I Giovani Imprenditori visitano l’Ariston Spa
DESCRIPTION:Clicca qui per maggiori dettagli
URL:https://www.confindustria.an.it/evento/i-giovani-imprenditori-visitano-lariston-spa/
LOCATION:Ariston S.P.A.\, Via Cola\, 27\,\, Passatempo\, AN\, 60027\, Italia
CATEGORIES:Giovani Imprenditori,Visita
ATTACH;FMTTYPE=image/png:https://www.confindustria.an.it/wp-content/uploads/2022/08/ConfindAnGruppoGiovani_1rigaBandieraeCentrato-01.png
END:VEVENT
BEGIN:VEVENT
DTSTART;TZID=Europe/Rome:20230329T143000
DTEND;TZID=Europe/Rome:20230329T183000
DTSTAMP:20260424T201150
CREATED:20230222T105337Z
LAST-MODIFIED:20230222T105337Z
UID:19749-1680100200-1680114600@www.confindustria.an.it
SUMMARY:Rappresentante dei lavoratori per la sicurezza - RLS - Corso base 32 ore
DESCRIPTION:Clicca qui per maggiori dettagli
URL:https://www.confindustria.an.it/evento/rappresentante-dei-lavoratori-per-la-sicurezza-rls-corso-base-32-ore-18/
LOCATION:Confindustria Ancona\, Via Ing. Roberto Bianchi snc\, Ancona\, 60131\, Italia
CATEGORIES:Formazione
ATTACH;FMTTYPE=image/jpeg:https://www.confindustria.an.it/wp-content/uploads/2022/07/SicurezzaLavoro_1140.jpg
END:VEVENT
BEGIN:VEVENT
DTSTART;TZID=Europe/Rome:20230329T090000
DTEND;TZID=Europe/Rome:20230329T120000
DTSTAMP:20260424T201150
CREATED:20230124T150020Z
LAST-MODIFIED:20230131T111703Z
UID:18730-1680080400-1680091200@www.confindustria.an.it
SUMMARY:Modulo 7 “Pianificazione doganale negli scambi con l’estero”
DESCRIPTION:Clicca qui per maggiori dettagli
URL:https://www.confindustria.an.it/evento/modulo-7-pianificazione-doganale-negli-scambi-con-lestero/
LOCATION:Online
CATEGORIES:Formazione
ATTACH;FMTTYPE=image/jpeg:https://www.confindustria.an.it/wp-content/uploads/2023/01/Logistica_1140.jpg
END:VEVENT
BEGIN:VEVENT
DTSTART;TZID=Europe/Rome:20230328T170000
DTEND;TZID=Europe/Rome:20230328T183000
DTSTAMP:20260424T201150
CREATED:20230317T090005Z
LAST-MODIFIED:20230317T090005Z
UID:20679-1680022800-1680028200@www.confindustria.an.it
SUMMARY:Gruppo Merceologico Informatica
DESCRIPTION:Clicca qui per maggiori dettagli
URL:https://www.confindustria.an.it/evento/gruppo-merceologico-informatica-2/
LOCATION:Confindustria Ancona\, Via Ing. Roberto Bianchi snc\, Ancona\, 60131\, Italia
CATEGORIES:Incontro riservato
END:VEVENT
BEGIN:VEVENT
DTSTART;TZID=Europe/Rome:20230327T150000
DTEND;TZID=Europe/Rome:20230327T173000
DTSTAMP:20260424T201150
CREATED:20230316T112341Z
LAST-MODIFIED:20230322T075331Z
UID:20657-1679929200-1679938200@www.confindustria.an.it
SUMMARY:Intelligenza artificiale: non solo ChatGPT Definizioni\, applicazioni e opportunità per le imprese
DESCRIPTION:Clicca qui per maggiori dettagli
URL:https://www.confindustria.an.it/evento/intelligenza-artificiale-non-solo-chatgpt-definizioni-applicazioni-e-opportunita-per-le-imprese/
LOCATION:Confindustria Ancona\, Via Ing. Roberto Bianchi snc\, Ancona\, 60131\, Italia
CATEGORIES:Incontro
ATTACH;FMTTYPE=image/jpeg:https://www.confindustria.an.it/wp-content/uploads/2023/03/Workshop_29Marzo_1140.jpg
END:VEVENT
BEGIN:VEVENT
DTSTART;TZID=Europe/Rome:20230323T170000
DTEND;TZID=Europe/Rome:20230323T180000
DTSTAMP:20260424T201150
CREATED:20220429T080126Z
LAST-MODIFIED:20230316T101235Z
UID:7345-1679590800-1679594400@www.confindustria.an.it
SUMMARY:Consiglio di Presidenza
DESCRIPTION:Clicca qui per maggiori dettagli
URL:https://www.confindustria.an.it/evento/consiglio-di-presidenza-2/
LOCATION:Confindustria Ancona\, Via Ing. Roberto Bianchi snc\, Ancona\, 60131\, Italia
CATEGORIES:Incontro riservato
ATTACH;FMTTYPE=image/jpeg:https://www.confindustria.an.it/wp-content/uploads/2022/04/12_CaricheAssociative_938_406-05.jpg
END:VEVENT
BEGIN:VEVENT
DTSTART;TZID=Europe/Rome:20230323T090000
DTEND;TZID=Europe/Rome:20230323T140000
DTSTAMP:20260424T201150
CREATED:20220429T074409Z
LAST-MODIFIED:20220429T074422Z
UID:7336-1679562000-1679580000@www.confindustria.an.it
SUMMARY:Responsabile delle questioni doganali ai fini AEO II edizione | MODULO 5 - (50 ore)
DESCRIPTION:Clicca qui per maggiori dettagli
URL:https://www.confindustria.an.it/evento/responsabile-delle-questioni-doganali-ai-fini-aeo-ii-edizione-modulo-5-50-ore-10/
LOCATION:Online
CATEGORIES:Formazione
ATTACH;FMTTYPE=image/png:https://www.confindustria.an.it/wp-content/uploads/2022/04/AEO_Tavola-disegno-1.png
END:VEVENT
BEGIN:VEVENT
DTSTART;TZID=Europe/Rome:20230322T180000
DTEND;TZID=Europe/Rome:20230322T193000
DTSTAMP:20260424T201150
CREATED:20230314T143102Z
LAST-MODIFIED:20230314T143102Z
UID:20551-1679508000-1679513400@www.confindustria.an.it
SUMMARY:Gruppo Merceologico Servizi alle Imprese
DESCRIPTION:Clicca qui per maggiori dettagli
URL:https://www.confindustria.an.it/evento/gruppo-merceologico-servizi-alle-imprese-3/
LOCATION:Confindustria Ancona\, Via Ing. Roberto Bianchi snc\, Ancona\, 60131\, Italia
CATEGORIES:Incontro riservato
END:VEVENT
BEGIN:VEVENT
DTSTART;TZID=Europe/Rome:20230322T143000
DTEND;TZID=Europe/Rome:20230322T183000
DTSTAMP:20260424T201150
CREATED:20230222T102828Z
LAST-MODIFIED:20230222T103954Z
UID:19739-1679495400-1679509800@www.confindustria.an.it
SUMMARY:Rappresentante dei lavoratori per la sicurezza - RLS - Corso base 32 ore
DESCRIPTION:Clicca qui per maggiori dettagli
URL:https://www.confindustria.an.it/evento/rappresentante-dei-lavoratori-per-la-sicurezza-rls-corso-base-32-ore-17/
LOCATION:Confindustria Ancona\, Via Ing. Roberto Bianchi snc\, Ancona\, 60131\, Italia
CATEGORIES:Formazione
ATTACH;FMTTYPE=image/jpeg:https://www.confindustria.an.it/wp-content/uploads/2022/07/SicurezzaLavoro_1140.jpg
END:VEVENT
BEGIN:VEVENT
DTSTART;TZID=Europe/Rome:20230322T120000
DTEND;TZID=Europe/Rome:20230322T150000
DTSTAMP:20260424T201150
CREATED:20230314T171528Z
LAST-MODIFIED:20230314T171528Z
UID:20556-1679486400-1679497200@www.confindustria.an.it
SUMMARY:Complementi per l’Edilizia e Attività Estrattive
DESCRIPTION:Clicca qui per maggiori dettagli
URL:https://www.confindustria.an.it/evento/complementi-per-ledilizia-e-attivita-estrattive/
LOCATION:Provincia uffici di Passo Varano\, uffici di Passo Varano\, Ancona\, Italia
END:VEVENT
BEGIN:VEVENT
DTSTART;TZID=Europe/Rome:20230321T173000
DTEND;TZID=Europe/Rome:20230321T190000
DTSTAMP:20260424T201150
CREATED:20230308T101841Z
LAST-MODIFIED:20230309T073529Z
UID:20401-1679419800-1679425200@www.confindustria.an.it
SUMMARY:Comitato di Senigallia
DESCRIPTION:Clicca qui per maggiori dettagli
URL:https://www.confindustria.an.it/evento/comitato-di-senigallia/
LOCATION:ISMA COLOR S.R.L.\, Via A. Merloni\, 24\, OSTRA\, 60010\, Italia
CATEGORIES:Incontro riservato
ATTACH;FMTTYPE=image/png:https://www.confindustria.an.it/wp-content/uploads/2022/03/Senigallia_250.png
END:VEVENT
BEGIN:VEVENT
DTSTART;TZID=Europe/Rome:20230321T090000
DTEND;TZID=Europe/Rome:20230321T120000
DTSTAMP:20260424T201150
CREATED:20230124T145904Z
LAST-MODIFIED:20230131T111643Z
UID:18725-1679389200-1679400000@www.confindustria.an.it
SUMMARY:Modulo 6 “Pianificazione doganale negli scambi con l’estero”
DESCRIPTION:Clicca qui per maggiori dettagli
URL:https://www.confindustria.an.it/evento/modulo-6-pianificazione-doganale-negli-scambi-con-lestero/
LOCATION:Online
CATEGORIES:Formazione
ATTACH;FMTTYPE=image/jpeg:https://www.confindustria.an.it/wp-content/uploads/2023/01/Logistica_1140.jpg
END:VEVENT
BEGIN:VEVENT
DTSTART;TZID=Europe/Rome:20230320T183000
DTEND;TZID=Europe/Rome:20230320T193000
DTSTAMP:20260424T201150
CREATED:20230302T153156Z
LAST-MODIFIED:20230302T153156Z
UID:20216-1679337000-1679340600@www.confindustria.an.it
SUMMARY:Assemblea Giovani Imprenditori
DESCRIPTION:Clicca qui per maggiori dettagli
URL:https://www.confindustria.an.it/evento/assemblea-giovani-imprenditori/
LOCATION:Online
CATEGORIES:Assemblea,Giovani Imprenditori
ATTACH;FMTTYPE=image/png:https://www.confindustria.an.it/wp-content/uploads/2022/08/ConfindAnGruppoGiovani_1rigaBandieraeCentrato-01.png
END:VEVENT
BEGIN:VEVENT
DTSTART;TZID=Europe/Rome:20230320T180000
DTEND;TZID=Europe/Rome:20230320T193000
DTSTAMP:20260424T201150
CREATED:20230308T102036Z
LAST-MODIFIED:20230308T113902Z
UID:20406-1679335200-1679340600@www.confindustria.an.it
SUMMARY:Comitato Anconetano
DESCRIPTION:Clicca qui per maggiori dettagli
URL:https://www.confindustria.an.it/evento/comitato-anconetano/
LOCATION:Confindustria Ancona\, Via Ing. Roberto Bianchi snc\, Ancona\, 60131\, Italia
CATEGORIES:Incontro riservato
ATTACH;FMTTYPE=image/png:https://www.confindustria.an.it/wp-content/uploads/2022/03/Ancona_250.png
END:VEVENT
BEGIN:VEVENT
DTSTART;TZID=Europe/Rome:20230320T170000
DTEND;TZID=Europe/Rome:20230320T183000
DTSTAMP:20260424T201150
CREATED:20230308T074238Z
LAST-MODIFIED:20230308T074238Z
UID:20372-1679331600-1679337000@www.confindustria.an.it
SUMMARY:Gruppo Merceologico Costruttori di Impianti
DESCRIPTION:Clicca qui per maggiori dettagli
URL:https://www.confindustria.an.it/evento/gruppo-merceologico-costruttori-di-impianti/
CATEGORIES:Incontro riservato
END:VEVENT
BEGIN:VEVENT
DTSTART;TZID=Europe/Rome:20230316T163000
DTEND;TZID=Europe/Rome:20230316T180000
DTSTAMP:20260424T201150
CREATED:20230306T095703Z
LAST-MODIFIED:20230315T145751Z
UID:20294-1678984200-1678989600@www.confindustria.an.it
SUMMARY:Tavolo di lavoro sul futuro dell’auto
DESCRIPTION:Clicca qui per maggiori dettagli
URL:https://www.confindustria.an.it/evento/tavolo-di-lavoro-sul-futuro-dellauto/
LOCATION:LOCCIONI\, Via Fiume\, 16\, Angeli di Rosora\, Italia
CATEGORIES:Incontro riservato
ATTACH;FMTTYPE=image/jpeg:https://www.confindustria.an.it/wp-content/uploads/2023/03/AutoIntelligente-1.jpg
END:VEVENT
BEGIN:VEVENT
DTSTART;TZID=Europe/Rome:20230316T090000
DTEND;TZID=Europe/Rome:20230316T140000
DTSTAMP:20260424T201150
CREATED:20220429T074339Z
LAST-MODIFIED:20220429T074352Z
UID:7334-1678957200-1678975200@www.confindustria.an.it
SUMMARY:Responsabile delle questioni doganali ai fini AEO II edizione | MODULO 5 - (50 ore)
DESCRIPTION:Clicca qui per maggiori dettagli
URL:https://www.confindustria.an.it/evento/responsabile-delle-questioni-doganali-ai-fini-aeo-ii-edizione-modulo-5-50-ore-9/
LOCATION:Online
CATEGORIES:Formazione
ATTACH;FMTTYPE=image/png:https://www.confindustria.an.it/wp-content/uploads/2022/04/AEO_Tavola-disegno-1.png
END:VEVENT
BEGIN:VEVENT
DTSTART;TZID=Europe/Rome:20230314T170000
DTEND;TZID=Europe/Rome:20230314T190000
DTSTAMP:20260424T201150
CREATED:20230221T115731Z
LAST-MODIFIED:20230228T113136Z
UID:19569-1678813200-1678820400@www.confindustria.an.it
SUMMARY:Incontro riservato al Consiglio Generale
DESCRIPTION:Clicca qui per maggiori dettagli
URL:https://www.confindustria.an.it/evento/incontro-riservato-al-consiglio-generale/
LOCATION:Confindustria Ancona\, Via Ing. Roberto Bianchi snc\, Ancona\, 60131\, Italia
CATEGORIES:Incontro riservato
ATTACH;FMTTYPE=image/jpeg:https://www.confindustria.an.it/wp-content/uploads/2022/04/12_CaricheAssociative_938_406-05.jpg
END:VEVENT
BEGIN:VEVENT
DTSTART;TZID=Europe/Rome:20230314T090000
DTEND;TZID=Europe/Rome:20230314T113000
DTSTAMP:20260424T201150
CREATED:20230124T145805Z
LAST-MODIFIED:20230131T111616Z
UID:18720-1678784400-1678793400@www.confindustria.an.it
SUMMARY:Modulo 5 “Pianificazione doganale negli scambi con l’estero”
DESCRIPTION:Clicca qui per maggiori dettagli
URL:https://www.confindustria.an.it/evento/modulo-5-pianificazione-doganale-negli-scambi-con-lestero/
LOCATION:Online
CATEGORIES:Formazione
ATTACH;FMTTYPE=image/jpeg:https://www.confindustria.an.it/wp-content/uploads/2023/01/Logistica_1140.jpg
END:VEVENT
BEGIN:VEVENT
DTSTART;TZID=Europe/Rome:20230310T103000
DTEND;TZID=Europe/Rome:20230310T180000
DTSTAMP:20260424T201150
CREATED:20230302T165605Z
LAST-MODIFIED:20230302T171132Z
UID:20244-1678444200-1678471200@www.confindustria.an.it
SUMMARY:Gruppo Merceologico Carto-Grafica Meeting delle sezioni Cartografiche riunite del Centro Italia
DESCRIPTION:Clicca qui per maggiori dettagli
URL:https://www.confindustria.an.it/evento/gruppo-merceologico-carto-grafica-meeting-delle-sezioni-cartografiche-riunite-del-centro-italia/
LOCATION:Confindustria Umbria\, Via Palermo 80/a\, Perugia\, Italia
CATEGORIES:Incontro riservato
END:VEVENT
BEGIN:VEVENT
DTSTART;TZID=Europe/Rome:20230309T090000
DTEND;TZID=Europe/Rome:20230309T140000
DTSTAMP:20260424T201150
CREATED:20220429T074248Z
LAST-MODIFIED:20220429T074305Z
UID:7332-1678352400-1678370400@www.confindustria.an.it
SUMMARY:Responsabile delle questioni doganali ai fini AEO II edizione | MODULO 5 - (50 ore)
DESCRIPTION:Clicca qui per maggiori dettagli
URL:https://www.confindustria.an.it/evento/responsabile-delle-questioni-doganali-ai-fini-aeo-ii-edizione-modulo-5-50-ore-8/
LOCATION:Online
CATEGORIES:Formazione
ATTACH;FMTTYPE=image/png:https://www.confindustria.an.it/wp-content/uploads/2022/04/AEO_Tavola-disegno-1.png
END:VEVENT
BEGIN:VEVENT
DTSTART;TZID=Europe/Rome:20230307T090000
DTEND;TZID=Europe/Rome:20230307T113000
DTSTAMP:20260424T201150
CREATED:20230124T145702Z
LAST-MODIFIED:20230131T111549Z
UID:18715-1678179600-1678188600@www.confindustria.an.it
SUMMARY:Modulo 4 “Pianificazione doganale negli scambi con l’estero”
DESCRIPTION:Clicca qui per maggiori dettagli
URL:https://www.confindustria.an.it/evento/modulo-4-pianificazione-doganale-negli-scambi-con-lestero/
LOCATION:Online
CATEGORIES:Formazione
ATTACH;FMTTYPE=image/jpeg:https://www.confindustria.an.it/wp-content/uploads/2023/01/Logistica_1140.jpg
END:VEVENT
BEGIN:VEVENT
DTSTART;TZID=Europe/Rome:20230303T180000
DTEND;TZID=Europe/Rome:20230303T193000
DTSTAMP:20260424T201150
CREATED:20230206T121933Z
LAST-MODIFIED:20230228T085305Z
UID:19184-1677866400-1677871800@www.confindustria.an.it
SUMMARY:I Giovani Imprenditori incontrano il Presidente Confindustria Ancona Pierluigi Bocchini
DESCRIPTION:Clicca qui per maggiori dettagli
URL:https://www.confindustria.an.it/evento/i-giovani-imprenditori-di-confindustria-ancona-incontrano-il-presidente-pierluigi-bocchini/
LOCATION:Confindustria Ancona\, Via Ing. Roberto Bianchi snc\, Ancona\, 60131\, Italia
CATEGORIES:Incontro riservato
ATTACH;FMTTYPE=image/png:https://www.confindustria.an.it/wp-content/uploads/2022/08/ConfindAnGruppoGiovani_1rigaBandieraeCentrato-01.png
END:VEVENT
BEGIN:VEVENT
DTSTART;TZID=Europe/Rome:20230302T090000
DTEND;TZID=Europe/Rome:20230302T140000
DTSTAMP:20260424T201150
CREATED:20220429T074215Z
LAST-MODIFIED:20220429T074229Z
UID:7330-1677747600-1677765600@www.confindustria.an.it
SUMMARY:Responsabile delle questioni doganali ai fini AEO II edizione | MODULO 5 - (50 ore)
DESCRIPTION:Clicca qui per maggiori dettagli
URL:https://www.confindustria.an.it/evento/responsabile-delle-questioni-doganali-ai-fini-aeo-ii-edizione-modulo-5-50-ore-7/
LOCATION:Online
CATEGORIES:Formazione
ATTACH;FMTTYPE=image/png:https://www.confindustria.an.it/wp-content/uploads/2022/04/AEO_Tavola-disegno-1.png
END:VEVENT
BEGIN:VEVENT
DTSTART;TZID=Europe/Rome:20230228T170000
DTEND;TZID=Europe/Rome:20230228T180000
DTSTAMP:20260424T201150
CREATED:20230215T141903Z
LAST-MODIFIED:20230227T103048Z
UID:19437-1677603600-1677607200@www.confindustria.an.it
SUMMARY:Riunione congiunta Consiglio di Presidenza e Consiglio Direttivo
DESCRIPTION:Clicca qui per maggiori dettagli
URL:https://www.confindustria.an.it/evento/riunione-congiunta-consiglio-di-presidenza-e-consiglio-direttivo-28febbraio2023/
LOCATION:Online
CATEGORIES:Incontro riservato
END:VEVENT
BEGIN:VEVENT
DTSTART;TZID=Europe/Rome:20230228T140000
DTEND;TZID=Europe/Rome:20230228T180000
DTSTAMP:20260424T201150
CREATED:20230120T094224Z
LAST-MODIFIED:20230127T093425Z
UID:18637-1677592800-1677607200@www.confindustria.an.it
SUMMARY:Corso di aggiornamento per addetti al primo soccorso
DESCRIPTION:Clicca qui per maggiori dettagli
URL:https://www.confindustria.an.it/evento/corso-di-aggiornamento-per-addetti-al-primo-soccorso/
LOCATION:Confindustria Ancona\, Via Ing. Roberto Bianchi snc\, Ancona\, 60131\, Italia
CATEGORIES:Formazione
END:VEVENT
BEGIN:VEVENT
DTSTART;TZID=Europe/Rome:20230228T090000
DTEND;TZID=Europe/Rome:20230228T113000
DTSTAMP:20260424T201150
CREATED:20230124T145538Z
LAST-MODIFIED:20230131T111529Z
UID:18710-1677574800-1677583800@www.confindustria.an.it
SUMMARY:Modulo 3 “Pianificazione doganale negli scambi con l’estero”
DESCRIPTION:Clicca qui per maggiori dettagli
URL:https://www.confindustria.an.it/evento/modulo-3-pianificazione-doganale-negli-scambi-con-lestero/
LOCATION:Online
CATEGORIES:Formazione
ATTACH;FMTTYPE=image/jpeg:https://www.confindustria.an.it/wp-content/uploads/2023/01/Logistica_1140.jpg
END:VEVENT
END:VCALENDAR